BEGIN:VCALENDAR
VERSION:2.0
PRODID:-//hacksw/handcal//NONSGML v1.0//EN
BEGIN:VEVENT
UID:814211eccf1b856ab3fde3d2a6be9406
DTSTAMP:20260426T012043Z

DTSTART:20240617T040000
DTEND:20240617T180000
SUMMARY:Romania - Ucraina  EURO 2024
DESCRIPTION:meciul Romania - Ucraina la Euro 2024

X-ALT-DESC;FMTTYPE=text/html:<!DOCTYPE HTML PUBLIC "-//W3C//DTD HTML 3.2//EN">\n<HTML>\n<HEAD>\n<META NAME="Generator" CONTENT="MS Exchange Server version 08.00.0681.000">\n<TITLE></TITLE>\n</HEAD>\n<BODY>\n<!-- Converted from text/rtf format -->\n\nmeciul Romania - Ucraina la Euro 2024\n\n</BODY>\n</HTML>

LOCATION:München, Bayern, Deutschland
END:VEVENT

END:VCALENDAR
