BEGIN:VCALENDAR
VERSION:2.0
PRODID:-//hacksw/handcal//NONSGML v1.0//EN
BEGIN:VEVENT
UID:c6c37ac5bf55dfce41ca90c14c7d42f0
DTSTAMP:20260426T000021Z

DTSTART:20180119T190000
DTEND:20180119T200000
SUMMARY:Romeo si Julieta
DESCRIPTION:Teatrul Tony Bulandra vă invită vineri 19 ianuarie 2018, de la ora 19:oo, la Sala Mare, pentru a urmări o poveste fără vârstă, o poveste a unei iubiri absolute și imposibile - „Romeo și Julieta” ?

după William Shakespeare
scenariu și regia: Irina Niculescu
muzica și tehnologie păpuși: John Lewandowski
muzică live: George Puiu
scenografie: Vlad Tănase

În distribuție: Daniel Burcea | Ana-Maria Calița | Cristina Dumitra | George Simian | Daniela Ruxandra Mihai | Corneliu Jipa | Monalisa Toncu



X-ALT-DESC;FMTTYPE=text/html:<!DOCTYPE HTML PUBLIC "-//W3C//DTD HTML 3.2//EN">\n<HTML>\n<HEAD>\n<META NAME="Generator" CONTENT="MS Exchange Server version 08.00.0681.000">\n<TITLE></TITLE>\n</HEAD>\n<BODY>\n<!-- Converted from text/rtf format -->\n\nTeatrul Tony Bulandra vă invită vineri 19 ianuarie 2018, de la ora 19:oo, la Sala Mare, pentru a urmări o poveste fără vârstă, o poveste a unei iubiri absolute și imposibile - „Romeo și Julieta” ?

după William Shakespeare
scenariu și regia: Irina Niculescu
muzica și tehnologie păpuși: John Lewandowski
muzică live: George Puiu
scenografie: Vlad Tănase

În distribuție: Daniel Burcea | Ana-Maria Calița | Cristina Dumitra | George Simian | Daniela Ruxandra Mihai | Corneliu Jipa | Monalisa Toncu

\n\n</BODY>\n</HTML>

LOCATION:
END:VEVENT

END:VCALENDAR
