BEGIN:VCALENDAR
VERSION:2.0
PRODID:-//hacksw/handcal//NONSGML v1.0//EN
BEGIN:VEVENT
UID:0107b04a6c5b1607898a22466bd39416
DTSTAMP:20260426T000059Z

DTSTART:20180505T090000
DTEND:20180506T190000
SUMMARY:SESSION ANIVERSAR - 10 ANI de R.G.K.
DESCRIPTION:Cu ocazia împlinirii a 10 ani de la înființare, Rural Grind Krew s-a decis să petreacă la fel ca pe acele vremuri și încearcă să aducă laolaltă toți foștii săi membri.

X-ALT-DESC;FMTTYPE=text/html:<!DOCTYPE HTML PUBLIC "-//W3C//DTD HTML 3.2//EN">\n<HTML>\n<HEAD>\n<META NAME="Generator" CONTENT="MS Exchange Server version 08.00.0681.000">\n<TITLE></TITLE>\n</HEAD>\n<BODY>\n<!-- Converted from text/rtf format -->\n\nCu ocazia împlinirii a 10 ani de la înființare, Rural Grind Krew s-a decis să petreacă la fel ca pe acele vremuri și încearcă să aducă laolaltă toți foștii săi membri.\n\n</BODY>\n</HTML>

LOCATION:
END:VEVENT

END:VCALENDAR
