BEGIN:VCALENDAR
VERSION:2.0
PRODID:-//hacksw/handcal//NONSGML v1.0//EN
BEGIN:VEVENT
UID:03340958e26722ffefe178470b07448a
DTSTAMP:20260425T235946Z

DTSTART:20190606T213000
DTEND:20190606T220000
SUMMARY:SMOKE LIKE A MAN @BABELfast
DESCRIPTION:FUMÂND CA UN BĂRBAT\n\n„Fumând ca un bărbat (Smoke Like a Man)” este o monodramă bazată pe viața artistei Frida Kahlo. Acest spectacol de teatru fizic dezvăluie fațete din viața unei femei complexe, sociabile, independente și rebele. O femeie care a încălcat codurile normelor sociale, s-a confruntat cu probleme de identitate și de gen, de la politică la artă și a pregătit calea pentru multe femei în anii următori.\n\n„Imediat ce medicii au informat-o că piciorul ei trebuie amputat, Frida a fugit în camera ei și s-a închis înăuntru. Trecând prin durerea fizică și furtuna emoțională, simțindu-se ca și cum pereții camerei se strângeau în jurul ei, în timp ce doctorii băteau în ușă, Frida se eliberează, mental, printr-o călătorie de răfuială cu corpul său bolnav și cu convențiile sociale în care a fost crescută. Între viață și moarte, senzuală și enigmatică ca întotdeauna, artista revoluționară Frida Kahlo se îmbarcă într-o călătorie puternică pentru a se împăca cu trupul distrus în care este întemnițată și cu convențiile societății în care a fost crescută”.

X-ALT-DESC;FMTTYPE=text/html:<!DOCTYPE HTML PUBLIC "-//W3C//DTD HTML 3.2//EN">\n<HTML>\n<HEAD>\n<META NAME="Generator" CONTENT="MS Exchange Server version 08.00.0681.000">\n<TITLE></TITLE>\n</HEAD>\n<BODY>\n<!-- Converted from text/rtf format -->\n\nFUMÂND CA UN BĂRBAT<br /><br />„Fumând ca un bărbat (Smoke Like a Man)” este o monodramă bazată pe viața artistei Frida Kahlo. Acest spectacol de teatru fizic dezvăluie fațete din viața unei femei complexe, sociabile, independente și rebele. O femeie care a încălcat codurile normelor sociale, s-a confruntat cu probleme de identitate și de gen, de la politică la artă și a pregătit calea pentru multe femei în anii următori.<br /><br />„Imediat ce medicii au informat-o că piciorul ei trebuie amputat, Frida a fugit în camera ei și s-a închis înăuntru. Trecând prin durerea fizică și furtuna emoțională, simțindu-se ca și cum pereții camerei se strângeau în jurul ei, în timp ce doctorii băteau în ușă, Frida se eliberează, mental, printr-o călătorie de răfuială cu corpul său bolnav și cu convențiile sociale în care a fost crescută. Între viață și moarte, senzuală și enigmatică ca întotdeauna, artista revoluționară Frida Kahlo se îmbarcă într-o călătorie puternică pentru a se împăca cu trupul distrus în care este întemnițată și cu convențiile societății în care a fost crescută”.\n\n</BODY>\n</HTML>

LOCATION:Bulevardul Regele Carol I 70, Târgoviște 130024, România
END:VEVENT

END:VCALENDAR
