BEGIN:VCALENDAR
VERSION:2.0
PRODID:-//hacksw/handcal//NONSGML v1.0//EN
BEGIN:VEVENT
UID:0e6a56a2e20c9a26f50cd8ff551a1a76
DTSTAMP:20260426T000015Z

DTSTART:20191108T190000
DTEND:20191108T200000
SUMMARY:Suntem făcuți din praf de stele de Scott Johnston
DESCRIPTION:Teatrul Tony Bulandra  la Sala Mare, pentru a viziona un spectacol de teatru experimental - „Suntem făcuți din praf de stele ” \nun spectacol de: Scott Johnston (Scoția)\ncu: Anca Gabriela Vezeteu | Ioana Teodora Brezoi-Mirică | Iulia Elena Stroie | Camelia Elena Barbu | Ștefania Beatrice Stelea | Dariana Rebeca Zamfir | Anca Elena Bălaș | Maria Emma Istrate | Remi Iulian Dobre | Horia Mihai Rizescu | Robert Iamandi | Andrei Vlad Vasile | Dariana Irina Vasile | Ștefania Nițescu | Elena Bălan\n\nRegizorul și profesorul de teatru de la Edinburgh College, Scott Johnston, a realizat un spectacol special pentru Festivalul BABEL 2019, doar cu voluntari ai Teatrului Tony Bulandra, cu vârste cuprinse între 16 și 19 ani. Spectacolul a avut o reprezentație în festival, și este reluat, încă din luna septembrie, ca spectacol al stagiunii 2019/2020, cu reprezentații în fiecare lună.\n\nPoveștile pe care le veți auzi sunt, în mare parte, scrise de acești copii talentați, sub îndrumarea lui Scott.\n

X-ALT-DESC;FMTTYPE=text/html:<!DOCTYPE HTML PUBLIC "-//W3C//DTD HTML 3.2//EN">\n<HTML>\n<HEAD>\n<META NAME="Generator" CONTENT="MS Exchange Server version 08.00.0681.000">\n<TITLE></TITLE>\n</HEAD>\n<BODY>\n<!-- Converted from text/rtf format -->\n\nTeatrul Tony Bulandra  la Sala Mare, pentru a viziona un spectacol de teatru experimental - „Suntem făcuți din praf de stele ” <br />un spectacol de: Scott Johnston (Scoția)<br />cu: Anca Gabriela Vezeteu | Ioana Teodora Brezoi-Mirică | Iulia Elena Stroie | Camelia Elena Barbu | Ștefania Beatrice Stelea | Dariana Rebeca Zamfir | Anca Elena Bălaș | Maria Emma Istrate | Remi Iulian Dobre | Horia Mihai Rizescu | Robert Iamandi | Andrei Vlad Vasile | Dariana Irina Vasile | Ștefania Nițescu | Elena Bălan<br /><br />Regizorul și profesorul de teatru de la Edinburgh College, Scott Johnston, a realizat un spectacol special pentru Festivalul BABEL 2019, doar cu voluntari ai Teatrului Tony Bulandra, cu vârste cuprinse între 16 și 19 ani. Spectacolul a avut o reprezentație în festival, și este reluat, încă din luna septembrie, ca spectacol al stagiunii 2019/2020, cu reprezentații în fiecare lună.<br /><br />Poveștile pe care le veți auzi sunt, în mare parte, scrise de acești copii talentați, sub îndrumarea lui Scott.<br />\n\n</BODY>\n</HTML>

LOCATION:Bulevardul Regele Carol I nr. 43, Târgoviște, Romania
END:VEVENT

END:VCALENDAR
