BEGIN:VCALENDAR
VERSION:2.0
PRODID:-//hacksw/handcal//NONSGML v1.0//EN
BEGIN:VEVENT
UID:843457745b4213cf232ad4d04f5ddf04
DTSTAMP:20260426T011850Z

DTSTART:20171013T190000
DTEND:20171013T213000
SUMMARY:Străini în Noapte
DESCRIPTION:Protagoniștii sunt Florin Piersic, care nu mai are nevoie de nicio prezentare, și Medeea Marinescu – o actriță extrem de valoroasă pentru generația sa, a cărei interpretare se va contopi perfect cu jocul actoricesc unic și remarcabil al maestrului ‘Mărgelatu’.

X-ALT-DESC;FMTTYPE=text/html:<!DOCTYPE HTML PUBLIC "-//W3C//DTD HTML 3.2//EN">\n<HTML>\n<HEAD>\n<META NAME="Generator" CONTENT="MS Exchange Server version 08.00.0681.000">\n<TITLE></TITLE>\n</HEAD>\n<BODY>\n<!-- Converted from text/rtf format -->\n\nProtagoniștii sunt Florin Piersic, care nu mai are nevoie de nicio prezentare, și Medeea Marinescu – o actriță extrem de valoroasă pentru generația sa, a cărei interpretare se va contopi perfect cu jocul actoricesc unic și remarcabil al maestrului ‘Mărgelatu’.\n\n</BODY>\n</HTML>

LOCATION:
END:VEVENT

END:VCALENDAR
