BEGIN:VCALENDAR
VERSION:2.0
PRODID:-//hacksw/handcal//NONSGML v1.0//EN
BEGIN:VEVENT
UID:e3d7045014072a3017993f8cecd8747f
DTSTAMP:20260426T011742Z

DTSTART:20181215T000000
DTEND:20181215T235959
SUMMARY:SUNRISE @ Casino Sinaia
DESCRIPTION:ACCES IN CASINO: Obtinerea unui pass\n\nSUNRISE |Casino Sinaia este un eveniment privat. Evenimentul a fost creat in scop informativ si nu reprezinta nici o obligatie din partea organizatorilor.\n\n\n▲ Accesul se face pe baza unui request scris pe pagina SNRS Pass, in urma caruia vei primi un link direct pentru achizitie, pe mail.\n\n▲ Poti achizitiona 1 singur Pass / adresa activa de mail\n\n-Te rugam sa scrii doar un singur request.\n-Daca nu ai primit un raspuns, inseamna ca nu ai primit un cod de acces.\n-Mesajele trimise pe alte pagini nu vor fi luate in considerare.\n\n▲ Un pass costa 60 lei (in limita numarului maxim disponibil)\n\nREGULI ACCESS:\n\n➫ Petrecerea de la Casino Sinaia este o petrecere cu caracter privat.\n➫ Prioritate pentru obtinerea pass-urilor au persoanele care sunt in baza noastra de date.\n➫ Accesul se va face pe baza unui pass nominal, netrasmisibil.\n➫ Pentru a asigura o desfasurare cat mai buna a evenimentului, numarul de pass-uri este limitat.\n➫ Va exista un punct de control al pass-urilor in afara locatiei si in lipsa acestora nu veti putea intra in incinta Casino-ului.\n➫ Va rugam sa aveti un act de identitate asupra voastra. Evenimentul se adreseaza numai persoanelor majore.\n\n_______________________________________\n\nREZERVARI MESE:\n\nAveti posibilitatea de a rezerva o masa contactand urmatoarele persoane:\n\nAlessandra: +40 747 323 556\n_______________________________________\n\n▲ Evenimentul se adreseaza persoanelor majore. 18+

X-ALT-DESC;FMTTYPE=text/html:<!DOCTYPE HTML PUBLIC "-//W3C//DTD HTML 3.2//EN">\n<HTML>\n<HEAD>\n<META NAME="Generator" CONTENT="MS Exchange Server version 08.00.0681.000">\n<TITLE></TITLE>\n</HEAD>\n<BODY>\n<!-- Converted from text/rtf format -->\n\nACCES IN CASINO: Obtinerea unui pass<br /><br />SUNRISE |Casino Sinaia este un eveniment privat. Evenimentul a fost creat in scop informativ si nu reprezinta nici o obligatie din partea organizatorilor.<br /><br /><br />▲ Accesul se face pe baza unui request scris pe pagina SNRS Pass, in urma caruia vei primi un link direct pentru achizitie, pe mail.<br /><br />▲ Poti achizitiona 1 singur Pass / adresa activa de mail<br /><br />-Te rugam sa scrii doar un singur request.<br />-Daca nu ai primit un raspuns, inseamna ca nu ai primit un cod de acces.<br />-Mesajele trimise pe alte pagini nu vor fi luate in considerare.<br /><br />▲ Un pass costa 60 lei (in limita numarului maxim disponibil)<br /><br />REGULI ACCESS:<br /><br />➫ Petrecerea de la Casino Sinaia este o petrecere cu caracter privat.<br />➫ Prioritate pentru obtinerea pass-urilor au persoanele care sunt in baza noastra de date.<br />➫ Accesul se va face pe baza unui pass nominal, netrasmisibil.<br />➫ Pentru a asigura o desfasurare cat mai buna a evenimentului, numarul de pass-uri este limitat.<br />➫ Va exista un punct de control al pass-urilor in afara locatiei si in lipsa acestora nu veti putea intra in incinta Casino-ului.<br />➫ Va rugam sa aveti un act de identitate asupra voastra. Evenimentul se adreseaza numai persoanelor majore.<br /><br />_______________________________________<br /><br />REZERVARI MESE:<br /><br />Aveti posibilitatea de a rezerva o masa contactand urmatoarele persoane:<br /><br />Alessandra: +40 747 323 556<br />_______________________________________<br /><br />▲ Evenimentul se adreseaza persoanelor majore. 18+\n\n</BODY>\n</HTML>

LOCATION:Bulevardul Carol I 2, Sinaia 106100, România
END:VEVENT

END:VCALENDAR
