BEGIN:VCALENDAR
VERSION:2.0
PRODID:-//hacksw/handcal//NONSGML v1.0//EN
BEGIN:VEVENT
UID:b47603a3dacb46c53eb3644bd862eceb
DTSTAMP:20260423T100829Z

DTSTART:20251205T173000
DTEND:20260110T173000
SUMMARY:Târgul de Crăciun 2025-2026
DESCRIPTION:?  Vă așteptăm să aprindem împreună iluminatul festiv, în seara de Moș Nicolae, respectiv vineri, 5 decembrie, în jurul orei 17.30, în Piața Tricolorului,  în cadrul unui spectacol de drone, artificii și lasere!\n\n?Noua cupola de lumini care va acoperi tot târgul, patinoarul, ursuleții sau autobuzele lui Moș Crăciun, reprezintă numai câteva din atracțile pregătite.\n\n? În seara zilei de 13 decembrie, vom participa împreună la paradă și ne vom bucura de venirea lui Moș Crăciun.

X-ALT-DESC;FMTTYPE=text/html:<!DOCTYPE HTML PUBLIC "-//W3C//DTD HTML 3.2//EN">\n<HTML>\n<HEAD>\n<META NAME="Generator" CONTENT="MS Exchange Server version 08.00.0681.000">\n<TITLE></TITLE>\n</HEAD>\n<BODY>\n<!-- Converted from text/rtf format -->\n\n?  Vă așteptăm să aprindem împreună iluminatul festiv, în seara de Moș Nicolae, respectiv vineri, 5 decembrie, în jurul orei 17.30, în Piața Tricolorului,  în cadrul unui spectacol de drone, artificii și lasere!<br /><br />?Noua cupola de lumini care va acoperi tot târgul, patinoarul, ursuleții sau autobuzele lui Moș Crăciun, reprezintă numai câteva din atracțile pregătite.<br /><br />? În seara zilei de 13 decembrie, vom participa împreună la paradă și ne vom bucura de venirea lui Moș Crăciun.\n\n</BODY>\n</HTML>

LOCATION:Piața Tricolorului, ZONA CENTRU VECHI, Târgoviște, Dâmbovița, 130018, România
END:VEVENT

END:VCALENDAR
