BEGIN:VCALENDAR
VERSION:2.0
PRODID:-//hacksw/handcal//NONSGML v1.0//EN
BEGIN:VEVENT
UID:ed91ca1af0bacf5215f1b7ad85520bd8
DTSTAMP:20260425T235817Z

DTSTART:20171116T215600
DTEND:20171119T120000
SUMMARY:Targul de turism al Romaniei
DESCRIPTION:Turism cultural, de aventură sau de business, destinații exotice sau croaziere? Cele mai interesante oferte și atracții turistice din țara și din străinătate te așteaptă la Târgul de Turism al României - între 16 și 19 noiembrie, la Romexpo!\n\nProgram de vizitare: 16 – 18 noiembrie: 10 – 18. 19 noiembrie: 10 – 16. Bilet intrare: 10 lei/zi. 

X-ALT-DESC;FMTTYPE=text/html:<!DOCTYPE HTML PUBLIC "-//W3C//DTD HTML 3.2//EN">\n<HTML>\n<HEAD>\n<META NAME="Generator" CONTENT="MS Exchange Server version 08.00.0681.000">\n<TITLE></TITLE>\n</HEAD>\n<BODY>\n<!-- Converted from text/rtf format -->\n\nTurism cultural, de aventură sau de business, destinații exotice sau croaziere? Cele mai interesante oferte și atracții turistice din țara și din străinătate te așteaptă la Târgul de Turism al României - între 16 și 19 noiembrie, la Romexpo!<br /><br />Program de vizitare: 16 – 18 noiembrie: 10 – 18. 19 noiembrie: 10 – 16. Bilet intrare: 10 lei/zi. \n\n</BODY>\n</HTML>

LOCATION:
END:VEVENT

END:VCALENDAR
