BEGIN:VCALENDAR
VERSION:2.0
PRODID:-//hacksw/handcal//NONSGML v1.0//EN
BEGIN:VEVENT
UID:660fefe15e88bb4c3534f38f0fbe91d7
DTSTAMP:20260426T000107Z

DTSTART:20170604T150000
DTEND:20170605T150000
SUMMARY:The Funamviolistas - BABEL FAST 2017
DESCRIPTION:Trei femei ce au fost date afară din orchestrele în care cântau, se întâlnesc pe o bancă oarecare… și devin, în scurt timp, o suită a trei instrumente „pierdute”. Un spectacol care, prin nostalgia și magnetismul lui estetic, ne poartă în era filmelor mute.

X-ALT-DESC;FMTTYPE=text/html:<!DOCTYPE HTML PUBLIC "-//W3C//DTD HTML 3.2//EN">\n<HTML>\n<HEAD>\n<META NAME="Generator" CONTENT="MS Exchange Server version 08.00.0681.000">\n<TITLE></TITLE>\n</HEAD>\n<BODY>\n<!-- Converted from text/rtf format -->\n\nTrei femei ce au fost date afară din orchestrele în care cântau, se întâlnesc pe o bancă oarecare… și devin, în scurt timp, o suită a trei instrumente „pierdute”. Un spectacol care, prin nostalgia și magnetismul lui estetic, ne poartă în era filmelor mute.\n\n</BODY>\n</HTML>

LOCATION:
END:VEVENT

END:VCALENDAR
