BEGIN:VCALENDAR
VERSION:2.0
PRODID:-//hacksw/handcal//NONSGML v1.0//EN
BEGIN:VEVENT
UID:554013b415c6683223c6dd5841e533c6
DTSTAMP:20260425T235837Z

DTSTART:20180928T000000
DTEND:20180928T235959
SUMMARY:Trooper @Campina - lansare album
DESCRIPTION:Trooper lansează albumul “Ştefan cel Mare – Poemele Moldovei”!\n\n“Ştefan cel Mare – Poemele Moldovei” va fi disponibil începând de la 1 septembrie. Acest nou disc marca Trooper reprezintă o opera rock, a doua după “Vlad Țepes – Poemele Valahiei”.\n\n“Atunci când am lansat ‘Vlad Țepes’, în 2009, aveam în minte să facă parte dintr-o trilogie, însa fară să forțăm apariția următoarelor albume. Aşa că acum, după aproape 10 ani, a sosit momentul să punem pe piață partea a doua. Avem o istorie interesantă, avem personaje istorice care au participat la construcția Europei aşa cum o ştim astăzi. Astăzi, mulți oameni nu mai conștientizează că fară trecut nu poți avea viitor. Pe noi ne-au inspirat mereu personajele istorice, am fost fascinați de trecut și de poveștile care au creat prezentul”, spune Alin Dincă, solistul Trooper.\n\nPrețul biletelor este de 25 de lei.

X-ALT-DESC;FMTTYPE=text/html:<!DOCTYPE HTML PUBLIC "-//W3C//DTD HTML 3.2//EN">\n<HTML>\n<HEAD>\n<META NAME="Generator" CONTENT="MS Exchange Server version 08.00.0681.000">\n<TITLE></TITLE>\n</HEAD>\n<BODY>\n<!-- Converted from text/rtf format -->\n\nTrooper lansează albumul “Ştefan cel Mare – Poemele Moldovei”!<br /><br />“Ştefan cel Mare – Poemele Moldovei” va fi disponibil începând de la 1 septembrie. Acest nou disc marca Trooper reprezintă o opera rock, a doua după “Vlad Țepes – Poemele Valahiei”.<br /><br />“Atunci când am lansat ‘Vlad Țepes’, în 2009, aveam în minte să facă parte dintr-o trilogie, însa fară să forțăm apariția următoarelor albume. Aşa că acum, după aproape 10 ani, a sosit momentul să punem pe piață partea a doua. Avem o istorie interesantă, avem personaje istorice care au participat la construcția Europei aşa cum o ştim astăzi. Astăzi, mulți oameni nu mai conștientizează că fară trecut nu poți avea viitor. Pe noi ne-au inspirat mereu personajele istorice, am fost fascinați de trecut și de poveștile care au creat prezentul”, spune Alin Dincă, solistul Trooper.<br /><br />Prețul biletelor este de 25 de lei.\n\n</BODY>\n</HTML>

LOCATION:Câmpina 105600, România
END:VEVENT

END:VCALENDAR
