BEGIN:VCALENDAR
VERSION:2.0
PRODID:-//hacksw/handcal//NONSGML v1.0//EN
BEGIN:VEVENT
UID:6b743d47d298d2433d7c1c647922f1ad
DTSTAMP:20260426T000126Z

DTSTART:20140527T170000
DTEND:20140617T190000
SUMMARY:Turneul Roboților, la Biblioteca Metropolitană
DESCRIPTION:Turneul Roboţilor va consta într-o serie de evenimente desfăşurate pe parcursul unei întregi luni în filialele Bibliotecii Metropolitane din Bucureşti. Astfel, pasionaţii de robotică sunt aşteptaţi marţi, la Biblioteca Liviu Rebreanu, de la ora 14.00, pe 3 iunie, la Biblioteca I. L. Caragiale, de la ora 14.00, pe 10 iunie, la Biblioteca Ioan Slavici, de la ora 14.00, iar pe 17 iunie, la filiala...

X-ALT-DESC;FMTTYPE=text/html:<!DOCTYPE HTML PUBLIC "-//W3C//DTD HTML 3.2//EN">\n<HTML>\n<HEAD>\n<META NAME="Generator" CONTENT="MS Exchange Server version 08.00.0681.000">\n<TITLE></TITLE>\n</HEAD>\n<BODY>\n<!-- Converted from text/rtf format -->\n\nTurneul Roboţilor va consta într-o serie de evenimente desfăşurate pe parcursul unei întregi luni în filialele Bibliotecii Metropolitane din Bucureşti. Astfel, pasionaţii de robotică sunt aşteptaţi marţi, la Biblioteca Liviu Rebreanu, de la ora 14.00, pe 3 iunie, la Biblioteca I. L. Caragiale, de la ora 14.00, pe 10 iunie, la Biblioteca Ioan Slavici, de la ora 14.00, iar pe 17 iunie, la filiala...\n\n</BODY>\n</HTML>

LOCATION:Biblioteca metropolitana, bucuresti
END:VEVENT

END:VCALENDAR
