BEGIN:VCALENDAR
VERSION:2.0
PRODID:-//hacksw/handcal//NONSGML v1.0//EN
BEGIN:VEVENT
UID:cc71261245969c0b56373016dec64bbd
DTSTAMP:20260421T174212Z

DTSTART:20190913T150000
DTEND:20190913T210000
SUMMARY:Turul României, Bike Show Târgoviște
DESCRIPTION:Turul Ciclist al României sau Mica Buclă este cea mai importantă competiție ciclistă desfășurată pe teritoriul României. Aceasta este organizată de Federatia Romana de Ciclism.\nVor fi multe activități pentru copii și nu numai. \n\n1. Activități bicicletă\nSlow Bike\nUn atelier pentru ¨pasionații de viteză”. Ultimul care traversează linia de sosire câstigă.\n\nSpeed Race:\nDacă îți place să îți depășești limitele atunci acesta este atelierul potrivit pentru tine. Un traseu cu obstacole gata să fie depășite de către cei mai îndrăzneți cicliști.\n\nAtelier Siguranța Biciclistului:\nÎncepe școala iar tinerii vor lua cu asalt străzile spre unitățile de învățământ. Mulți dintre ei vor face acest lucru pe bicicleta lor favorită. Acest atelier îi va învăța multe lucruri care îi poate proteja în situații periculoase atunci când merg pe bicicletă.\n\nShow Acrobație pe bicicletă:\nGabi Orban are trei recorduri mondiale, omologate de Guinness World Records și patru titluri naționale la mountain bike trial. El va face show în fiecare locație în care vom ajunge.\n\nConcurs copii\nÎn Târgoviște vom desfășura concursuri pentru copii iar mai multe detalii găsiți pe pagina destinată acestora – http://turulromaniei.com/regulament-cursa-copiilor/\n\n\n2. Entertainment\nDJ\nCalitate unui eveniment de ciclism ține foarte mult de muzica ce întreține atmosfera la linia de sosire. Fiecare detaliu stă în mâinile și abilitățile unui om iar in cadrul evenimentelor Turului României veți avea parte de un show total din partea unui DJ profesionist.\n\nFotonomat:\nFotonomatul este o variantă modernă a unei cabine foto, doar că nu are pereți, ci este deschisă; astfel distracția este la vedere și invită în mod natural publicul să participe. Fotonomat vine la pachet cu o generoasă recuzită amuzantă pentru invitați și un fundal potrivit cu evenimentul.\n\nVă așteptam!

X-ALT-DESC;FMTTYPE=text/html:<!DOCTYPE HTML PUBLIC "-//W3C//DTD HTML 3.2//EN">\n<HTML>\n<HEAD>\n<META NAME="Generator" CONTENT="MS Exchange Server version 08.00.0681.000">\n<TITLE></TITLE>\n</HEAD>\n<BODY>\n<!-- Converted from text/rtf format -->\n\nTurul Ciclist al României sau Mica Buclă este cea mai importantă competiție ciclistă desfășurată pe teritoriul României. Aceasta este organizată de Federatia Romana de Ciclism.<br />Vor fi multe activități pentru copii și nu numai. <br /><br />1. Activități bicicletă<br />Slow Bike<br />Un atelier pentru ¨pasionații de viteză”. Ultimul care traversează linia de sosire câstigă.<br /><br />Speed Race:<br />Dacă îți place să îți depășești limitele atunci acesta este atelierul potrivit pentru tine. Un traseu cu obstacole gata să fie depășite de către cei mai îndrăzneți cicliști.<br /><br />Atelier Siguranța Biciclistului:<br />Începe școala iar tinerii vor lua cu asalt străzile spre unitățile de învățământ. Mulți dintre ei vor face acest lucru pe bicicleta lor favorită. Acest atelier îi va învăța multe lucruri care îi poate proteja în situații periculoase atunci când merg pe bicicletă.<br /><br />Show Acrobație pe bicicletă:<br />Gabi Orban are trei recorduri mondiale, omologate de Guinness World Records și patru titluri naționale la mountain bike trial. El va face show în fiecare locație în care vom ajunge.<br /><br />Concurs copii<br />În Târgoviște vom desfășura concursuri pentru copii iar mai multe detalii găsiți pe pagina destinată acestora – http://turulromaniei.com/regulament-cursa-copiilor/<br /><br /><br />2. Entertainment<br />DJ<br />Calitate unui eveniment de ciclism ține foarte mult de muzica ce întreține atmosfera la linia de sosire. Fiecare detaliu stă în mâinile și abilitățile unui om iar in cadrul evenimentelor Turului României veți avea parte de un show total din partea unui DJ profesionist.<br /><br />Fotonomat:<br />Fotonomatul este o variantă modernă a unei cabine foto, doar că nu are pereți, ci este deschisă; astfel distracția este la vedere și invită în mod natural publicul să participe. Fotonomat vine la pachet cu o generoasă recuzită amuzantă pentru invitați și un fundal potrivit cu evenimentul.<br /><br />Vă așteptam!\n\n</BODY>\n</HTML>

LOCATION:Calea Ialomiței 9-15, Târgoviște, România
END:VEVENT

END:VCALENDAR
