BEGIN:VCALENDAR
VERSION:2.0
PRODID:-//hacksw/handcal//NONSGML v1.0//EN
BEGIN:VEVENT
UID:372f4d9f7d9a9614dba0c6bcc84863b0
DTSTAMP:20260426T000028Z

DTSTART:20221216T000000
DTEND:20221231T235959
SUMMARY:Vine Vine Mos Craciun
DESCRIPTION:Parada incepe la Teatrul Tony Bulandra, la ora 17:00, continuind pe Bulevardul Regele Carol I, Bulevardul Mircea cel Batran, Calea Domneasca, Bulevardul Libertatii si se incheie in Piata Tricolorului !

X-ALT-DESC;FMTTYPE=text/html:<!DOCTYPE HTML PUBLIC "-//W3C//DTD HTML 3.2//EN">\n<HTML>\n<HEAD>\n<META NAME="Generator" CONTENT="MS Exchange Server version 08.00.0681.000">\n<TITLE></TITLE>\n</HEAD>\n<BODY>\n<!-- Converted from text/rtf format -->\n\nParada incepe la Teatrul Tony Bulandra, la ora 17:00, continuind pe Bulevardul Regele Carol I, Bulevardul Mircea cel Batran, Calea Domneasca, Bulevardul Libertatii si se incheie in Piata Tricolorului !\n\n</BODY>\n</HTML>

LOCATION:Piața Tricolorului, Târgoviște, Dâmbovița, România
END:VEVENT

END:VCALENDAR
