BEGIN:VCALENDAR
VERSION:2.0
PRODID:-//hacksw/handcal//NONSGML v1.0//EN
BEGIN:VEVENT
UID:aafa2367dabca2e5cfd88cbdadbf7ae0
DTSTAMP:20260426T010241Z

DTSTART:20190417T210000
DTEND:20190418T000000
SUMMARY: Zdob şi Zdub @ Hard Rock Cafe
DESCRIPTION:Dacă îţi place să te distrezi şi să cânţi până la epuizare alături de Zdob şi Zdub, iar hiturile “DJ Vasile”, “Zdubii bateţi tare” sau “Bunica bate doba” se află la loc de cinste în playlistul tău, te aşteptăm la concertul Zdob si Zdub la Hard Rock Cafe pe 17 aprilie, de la ora 21:30. \n\nBilete : https://www.iabilet.ro/bilete-concert-zdob-si-zdub-37813/\n\nPentru un show total, nu avem mese in fata scenei!\nDe peste 20 de ani, Zdob și Zdub au găsit cheia către inima iubitorilor de sonorităţi inovative, cu un un crossover muzical original, în care se întâlnesc intensitatea urbană și spiritul rural. Piesele lor combină hardcore-ul cu elemente etno, folclorice, hip-hop, drum'n'bass, jungle şi punk, într-un mod unic și captivant. Concertele “zdubilor” transmit ceva din energia descătuşată spectacolelor rock de mare calibru şi sunt întregite de atitudinea de showman rebel a solistului Roman Iagupov, cu care publicul rezonează perfect.\n\nPe 5 decembrie trupa promite să umple din nou până la refuz restaurantul din parcul Herăstrău, aşa că grăbeşte-te, dacă vrei să iei parte la cel mai tare concert al acestui sfarsit de an.\n\nBiletele se gasesc in format electronic pe www.iabilet.ro si in reteaua fizica iabilet.ro/retea : Magazinele Flanco, Metrou Unirii 1 langa casa de bilete Metrorex, Magazinul Muzica, Expirat Halele Carol (in intervalul orar: 18:00-22:00), Magazinele IQ BOX - Telekom, Cafe Deko, Club Vintage, Club Quantic, Hard Rock Cafe, Agentiile Perfect Tour, Magazinele Uman si pe terminalele self-service ZebraPay din toata tara.\n\nBiletele au următoarele preţuri:\n\n- Cu loc la masa in sala: 129 lei (numar limitat de bilete)\n- Fara loc, in fata scenei pe ringul de dans: 60 lei\n\nVino la Hard Rock Cafe să fii aproape de artiștii tăi preferați și să te bucuri de muzica lor, într-o atmosferă unică! Show-urile explozive, colecţia de suveniruri care îți reamintesc de legendele muzicii și calitatea sunetului îţi garantează cea mai placută experienţă live.\n\nHard Rock Cafe Bucuresti se afla in parcul Herastrau - Soseaua Kiseleff, nr. 32 \nLocatia dispune si de cateva sute de locuri de parcare.\n\nUn eveniment BestMusic Live Concerts powered by ROCK FM

X-ALT-DESC;FMTTYPE=text/html:<!DOCTYPE HTML PUBLIC "-//W3C//DTD HTML 3.2//EN">\n<HTML>\n<HEAD>\n<META NAME="Generator" CONTENT="MS Exchange Server version 08.00.0681.000">\n<TITLE></TITLE>\n</HEAD>\n<BODY>\n<!-- Converted from text/rtf format -->\n\nDacă îţi place să te distrezi şi să cânţi până la epuizare alături de Zdob şi Zdub, iar hiturile “DJ Vasile”, “Zdubii bateţi tare” sau “Bunica bate doba” se află la loc de cinste în playlistul tău, te aşteptăm la concertul Zdob si Zdub la Hard Rock Cafe pe 17 aprilie, de la ora 21:30. <br /><br />Bilete : https://www.iabilet.ro/bilete-concert-zdob-si-zdub-37813/<br /><br />Pentru un show total, nu avem mese in fata scenei!<br />De peste 20 de ani, Zdob și Zdub au găsit cheia către inima iubitorilor de sonorităţi inovative, cu un un crossover muzical original, în care se întâlnesc intensitatea urbană și spiritul rural. Piesele lor combină hardcore-ul cu elemente etno, folclorice, hip-hop, drum'n'bass, jungle şi punk, într-un mod unic și captivant. Concertele “zdubilor” transmit ceva din energia descătuşată spectacolelor rock de mare calibru şi sunt întregite de atitudinea de showman rebel a solistului Roman Iagupov, cu care publicul rezonează perfect.<br /><br />Pe 5 decembrie trupa promite să umple din nou până la refuz restaurantul din parcul Herăstrău, aşa că grăbeşte-te, dacă vrei să iei parte la cel mai tare concert al acestui sfarsit de an.<br /><br />Biletele se gasesc in format electronic pe www.iabilet.ro si in reteaua fizica iabilet.ro/retea : Magazinele Flanco, Metrou Unirii 1 langa casa de bilete Metrorex, Magazinul Muzica, Expirat Halele Carol (in intervalul orar: 18:00-22:00), Magazinele IQ BOX - Telekom, Cafe Deko, Club Vintage, Club Quantic, Hard Rock Cafe, Agentiile Perfect Tour, Magazinele Uman si pe terminalele self-service ZebraPay din toata tara.<br /><br />Biletele au următoarele preţuri:<br /><br />- Cu loc la masa in sala: 129 lei (numar limitat de bilete)<br />- Fara loc, in fata scenei pe ringul de dans: 60 lei<br /><br />Vino la Hard Rock Cafe să fii aproape de artiștii tăi preferați și să te bucuri de muzica lor, într-o atmosferă unică! Show-urile explozive, colecţia de suveniruri care îți reamintesc de legendele muzicii și calitatea sunetului îţi garantează cea mai placută experienţă live.<br /><br />Hard Rock Cafe Bucuresti se afla in parcul Herastrau - Soseaua Kiseleff, nr. 32 <br />Locatia dispune si de cateva sute de locuri de parcare.<br /><br />Un eveniment BestMusic Live Concerts powered by ROCK FM\n\n</BODY>\n</HTML>

LOCATION:
END:VEVENT

END:VCALENDAR
