BEGIN:VCALENDAR
VERSION:2.0
PRODID:-//hacksw/handcal//NONSGML v1.0//EN
BEGIN:VEVENT
UID:957a926e4e81cb65a15f74d468d19a59
DTSTAMP:20260426T023646Z

DTSTART:20200908T000000
DTEND:20200908T120000
SUMMARY:Zilele Cetății - DAY 4
DESCRIPTION: 10:00 – Slujba religioasă de Sfânta Zi a Naşterii Maicii Domnului – Locaţie: Catedrala Mitropolitană Târgovişte\n\n13:00 – Şedinţa festivă a Consiliului Local Municipal Târgovişte – Locaţie: Teatrul de vară (Parcul Chindia)\n\n18:00 – Concert „Comori ale Romanţei” – interpretează Alina Mavrodin Vasiliu, Cristina Dan, Nicoleta Vasile, Daiana Berbec, Bogdan Hrestic, Yuriy Tsiple Yura, Mihail Vlădăreanu şi Grupul “Doruleţul“ al Catedralei mitropolitane din Târgovişte, acompaniament pian Stelian Apostol – Locaţie: Muzeul ”Casa Romanţei”\n\n19:00 – Spectacol folcloric „De drag, Mărie, de drag!” – organizat de Centrul Judeţean de Cultură Dâmboviţa – Locaţie: Teatrul de vară (Parcul Chindia)\n

X-ALT-DESC;FMTTYPE=text/html:<!DOCTYPE HTML PUBLIC "-//W3C//DTD HTML 3.2//EN">\n<HTML>\n<HEAD>\n<META NAME="Generator" CONTENT="MS Exchange Server version 08.00.0681.000">\n<TITLE></TITLE>\n</HEAD>\n<BODY>\n<!-- Converted from text/rtf format -->\n\n 10:00 – Slujba religioasă de Sfânta Zi a Naşterii Maicii Domnului – Locaţie: Catedrala Mitropolitană Târgovişte<br /><br />13:00 – Şedinţa festivă a Consiliului Local Municipal Târgovişte – Locaţie: Teatrul de vară (Parcul Chindia)<br /><br />18:00 – Concert „Comori ale Romanţei” – interpretează Alina Mavrodin Vasiliu, Cristina Dan, Nicoleta Vasile, Daiana Berbec, Bogdan Hrestic, Yuriy Tsiple Yura, Mihail Vlădăreanu şi Grupul “Doruleţul“ al Catedralei mitropolitane din Târgovişte, acompaniament pian Stelian Apostol – Locaţie: Muzeul ”Casa Romanţei”<br /><br />19:00 – Spectacol folcloric „De drag, Mărie, de drag!” – organizat de Centrul Judeţean de Cultură Dâmboviţa – Locaţie: Teatrul de vară (Parcul Chindia)<br />\n\n</BODY>\n</HTML>

LOCATION:Târgoviște, Dâmbovița, România
END:VEVENT

END:VCALENDAR
