BEGIN:VCALENDAR
VERSION:2.0
PRODID:-//hacksw/handcal//NONSGML v1.0//EN
BEGIN:VEVENT
UID:b57c63feb09fb93e51a6ebd56be87dcc
DTSTAMP:20260426T000026Z

DTSTART:20190906T090000
DTEND:20190908T230000
SUMMARY:Zilele Cetății Târgoviște - ediția 2019
DESCRIPTION:Ca în fiecare an, la începutul lunii septembrie, Primăria Municipiului Târgoviște vă invită la evenimentul devenit tradiție - ZILELE CETĂȚII TÂRGOVIȘTE!‼\nProgramul Evenimentelor:\n\n02 - 05 septembrie 2019\n\n♦Activități sportive♦\n\n 17.00 - Cupa Chindia la Fotbal – Turneul Cartierelor - Locație: Complexul Turistic de Natație \n 17.00 – Cupa Zilele Cetății la Tenis de câmp: juniori și seniori -  Locație: Parcul Chindia și Baza sportivă Vascony  \n \n06 septembrie 2019\n\n♦Activități tradiționale, artistice și culturale♦\n\n09.00 – Deschidere Târgul negustorilor organizat de Primăria Municipiului Târgoviște - Locație: Parcul Chindia  \n09:00 – Deschiderea Festivalului-Concurs "Grădinile internaționale ale Targovistei" - Locație: Parcul Chindia\n11:00 – Deschidere Salonul Editorial ”Ion Heliade Rădulescu” – Locație: Scuarul Primăriei\n11:00 - Deschidere Târgul de Anticariat – Locație: Scuarul Primăriei \n11:00 – Deschidere Stand Expozițional de promovare a obiectivelor turistice din Municipiul Târgoviște  / Județul Dâmbovița  –  organizat de B.P.P.C,D.T  în parteneriat cu Complexul Muzeal ,,Curtea Domnească”. Locație: Scuarul Primăriei\n11:30 - 18:00 - Valori târgoviștene – expoziție de costume populare, pictură, sculptură, ceasuri – Primăria Târgoviște \n13:00 – Premierea cuplurilor care împlinesc 50 de ani de căsătorie – Locație: Primăria Târgoviște – Sala Florentină \n16:00 – Deschidere oficială Târgul meșterilor populari organizat de Centrul de Cultură al Județului Dâmbovița – Locație: Parcul Mitropoliei \n18:00 – PARADA –Târgoviște – privind spre viitor - Traseu Teatrul Tony Bulandra– B-dul Carol I – B-dul Mircea cel Bătrân – Calea Domnească – Parcul Chindia \n18:30 – 22:00 Concert de muzică populară – organizat de Centrul de Cultură al Județului Dâmbovița - Locație: Parcul Mitropoliei \n18:30 - Deschiderea oficială a festivalului ”Zilele Cetății Târgoviște” - Locație: Parcul Chindia (zona ruine) \n19:00 – Concert ”Ethos” susținut de Vlad Miriță și Frații Cazanoi - Locație: Parcul Chindia (zona ruine) \n20:30 – Concert Trooper -  Locație: Parcul Chindia (zona ruine) 21:30 – Video mapping - Spectacol de proiecție lumini pe Turnul Chindiei Locație: Parcul Chindia (zona ruine - Turnul Chindiei\n \n♦Activități sportive♦\n\n17.00 – Cupa Chindia la Fotbal – Turneul Cartierelor - Locație: Complexul Turistic de Natație   \n17.00 – Cupa Zilele Cetății la tenis de câmp: juniori și seniori - Locație: Parcul Chindia și Baza sportivă Vascony \n   \n     ?\nActivități tradiționale, artistice și culturale \n\n09.00 – 23.00 – Târgul negustorilor organizat de Primăria Municipiului Târgoviște - Locație: Parcul Chindia \n09.00 – 23.00 - Târgul meșterilor populari organizat de Centrul de Cultură al Județului Dâmbovița – Locație: Parcul Mitropoliei \n11:00 – 18:00 – Salonul Editorial ”Ion Heliade Rădulescu” – Locație: Scuarul Primăriei \n11:00 – 21:00 - Târgul de Anticariat – Locație: Scuarul Primăriei \n11:00 –18:00 - Stand Expozițional de promovare a obiectivelor turistice din Municipiul Târgoviște  / Județul Dâmbovița  –  organizat de B.P.P.C,D.T  în parteneriat cu Complexul Muzeal ,,Curtea Domnească”. Locație: Scuarul Primăriei0 \n11:30 - 18:00 - Valori târgoviștene – expoziție de costume populare, pictură, sculptură, ceasuri – Primăria Târgoviște \n11:00 –– ”Cartierul Copiilor” – Spectacol de teatru  susținut de Teatrul Tony Bulandra - Locație: Parcul Chindia (zona ruine) \n12:00 - ”Cartierul Copiilor” – Spectacol de dans – clasa Daniela Rotari  - Locație: Parcul Chindia (zona ruine) \n14:30 – ”Cartierul Copiilor” – Spectacol interactiv și concursuri pentru copii – Teatrul Vostru Sibiu - Locație: Parcul Chindia (zona ruine) \n16:30 -– ”Cartierul Copiilor” – Opera Comică pentru copii București - Locație: Parcul Chindia (zona ruine) \n17:00 – Expoziție ”Retrospectiva anualelor de arhitectură”, realizată de Ordinul Arhitecților din România, filiala Muntenia Vest – Locație: Centrul Vechi al municipiului Târgoviște \n20:30 – Concert ”Renașterea spiritului – Călătorie Balcanică” susținut de Ovidiu Lipan Țăndărică și invitații săi: Rona Hartner, Stelu Enache, Panțîru Brass, Grupul Balcano – Locație: Parcul Chindia (zona ruine)  \n\n♦Activități sportive♦\n\n17.00 – Cupa Zilele Cetății la tenis de câmp : juniori și seniori- Locație: Parcul Chindia și Baza sportivă Vascony   \n17.00 – Cupa Chindia la Fotbal – Turneul Cartierelor - festivitatea de premiere -  Locație: Complexul Turistic de Natație \n18.00 – FOTBAL: Echipa Consiliului Local Municipal vs. Old Boys ”Petrolul Ploiești” - Locație: Complexul Turistic de Natație  \n\n     ?08 septembrie 2019?\n\n♦Activități festive și religioase♦\n\n09:00 – Slujba religioasă de Sfânta Zi a Nașterii Maicii Domnului - Locație: Catedrala Mitropolitană Târgoviște \n12:00 – Procesiune. Traseu: Mitropolia Târgoviște-Bulevardul Mircea cel Bătrân-Calea Domnească- Curtea Domnească \n13:00 – Ședința festivă a Consiliului Local Municipal Târgoviște – Locație: Curtea Domnească  \n\n♦Activități tradiționale, artistice și culturale♦\n\n10.00 – 23.00 – Târgul negustorilor organizat de Primăria Municipiului Târgoviște - Locație: Parcul Chindia \n10.00 – 23.00 - Târgul meșterilor populari organizat de Centrul de Cultură al Județului Dâmbovița – Locație: Parcul Mitropoliei \n10:00 – 18:00 - Târgul de Anticariat – Locație: Scuarul Primăriei \n10:00 - 18:00 – Salonul Editorial ”Ion Heliade Rădulescu” – Locație: Scuarul Primăriei \n10:00 - 18:00 - Stand Expozițional de promovare a obiectivelor turistice din Municipiul Târgoviște  / Județul Dâmbovița  –  organizat de B.P.P.C,D.T  în parteneriat cu Complexul Muzeal ,,Curtea Domnească”. Locație: Scuarul Primăriei \n11:00 – Cartierul Copiilor – Teatrul Vostru Sibiu - spectacol interactiv, concursuri cu și pentru copii - Locație: Parcul Chindia (zona ruine) \n11:30 - 16:00 - Valori târgoviștene – expoziție de costume populare, pictură, sculptură, ceasuri – Primăria Târgoviște\n12:30 – Cartierul Copiilor – Spectacol pentru copii cu Magicianul (Marian Râlea) - Locație: Parcul Chindia (zona ruine) \n15:00 – Premierea concurenților din cadrul Festivalului-Concurs "Grădinile internaționale ale Targovistei" - Locație: Parcul Chindia\n17:00 – Valori târgoviștene: Corul Liceului Ienăchiță Văcărescu și Concert de muzică de film –susținut de orchestra Liceului Bălașa Doamna - Locație: Parcul Chindia (zona ruine) \n20:00 - Concert de  muzică electronică – susținut de DJ KT și DJ Dinu Ivan - Locație: Parcul Chindia (zona ruine) \n21:00 – Concert extraordinar – susținut de Goran Bregovic & Wedding and Funeral Band– Locație: Parcul Chindia (zona ruine) \nDupă 22:00 – Foc de artificii – Locație: Parcul Chindia (zona ruine)  \n\n♦Activități sportive♦\n\n15.00 –- Festivitatea de premiere - Cupa Zilele Cetății la tenis de câmp : juniori și seniori - Locație: Parcul Chindia și Baza sportivă Vascony\n\n   ? ACCESUL ESTE GRATUIT ?

X-ALT-DESC;FMTTYPE=text/html:<!DOCTYPE HTML PUBLIC "-//W3C//DTD HTML 3.2//EN">\n<HTML>\n<HEAD>\n<META NAME="Generator" CONTENT="MS Exchange Server version 08.00.0681.000">\n<TITLE></TITLE>\n</HEAD>\n<BODY>\n<!-- Converted from text/rtf format -->\n\nCa în fiecare an, la începutul lunii septembrie, Primăria Municipiului Târgoviște vă invită la evenimentul devenit tradiție - ZILELE CETĂȚII TÂRGOVIȘTE!‼<br />Programul Evenimentelor:<br /><br />02 - 05 septembrie 2019<br /><br />♦Activități sportive♦<br /><br /> 17.00 - Cupa Chindia la Fotbal – Turneul Cartierelor - Locație: Complexul Turistic de Natație <br /> 17.00 – Cupa Zilele Cetății la Tenis de câmp: juniori și seniori -  Locație: Parcul Chindia și Baza sportivă Vascony  <br /> <br />06 septembrie 2019<br /><br />♦Activități tradiționale, artistice și culturale♦<br /><br />09.00 – Deschidere Târgul negustorilor organizat de Primăria Municipiului Târgoviște - Locație: Parcul Chindia  <br />09:00 – Deschiderea Festivalului-Concurs "Grădinile internaționale ale Targovistei" - Locație: Parcul Chindia<br />11:00 – Deschidere Salonul Editorial ”Ion Heliade Rădulescu” – Locație: Scuarul Primăriei<br />11:00 - Deschidere Târgul de Anticariat – Locație: Scuarul Primăriei <br />11:00 – Deschidere Stand Expozițional de promovare a obiectivelor turistice din Municipiul Târgoviște  / Județul Dâmbovița  –  organizat de B.P.P.C,D.T  în parteneriat cu Complexul Muzeal ,,Curtea Domnească”. Locație: Scuarul Primăriei<br />11:30 - 18:00 - Valori târgoviștene – expoziție de costume populare, pictură, sculptură, ceasuri – Primăria Târgoviște <br />13:00 – Premierea cuplurilor care împlinesc 50 de ani de căsătorie – Locație: Primăria Târgoviște – Sala Florentină <br />16:00 – Deschidere oficială Târgul meșterilor populari organizat de Centrul de Cultură al Județului Dâmbovița – Locație: Parcul Mitropoliei <br />18:00 – PARADA –Târgoviște – privind spre viitor - Traseu Teatrul Tony Bulandra– B-dul Carol I – B-dul Mircea cel Bătrân – Calea Domnească – Parcul Chindia <br />18:30 – 22:00 Concert de muzică populară – organizat de Centrul de Cultură al Județului Dâmbovița - Locație: Parcul Mitropoliei <br />18:30 - Deschiderea oficială a festivalului ”Zilele Cetății Târgoviște” - Locație: Parcul Chindia (zona ruine) <br />19:00 – Concert ”Ethos” susținut de Vlad Miriță și Frații Cazanoi - Locație: Parcul Chindia (zona ruine) <br />20:30 – Concert Trooper -  Locație: Parcul Chindia (zona ruine) 21:30 – Video mapping - Spectacol de proiecție lumini pe Turnul Chindiei Locație: Parcul Chindia (zona ruine - Turnul Chindiei<br /> <br />♦Activități sportive♦<br /><br />17.00 – Cupa Chindia la Fotbal – Turneul Cartierelor - Locație: Complexul Turistic de Natație   <br />17.00 – Cupa Zilele Cetății la tenis de câmp: juniori și seniori - Locație: Parcul Chindia și Baza sportivă Vascony <br />   <br />     ?<br />Activități tradiționale, artistice și culturale <br /><br />09.00 – 23.00 – Târgul negustorilor organizat de Primăria Municipiului Târgoviște - Locație: Parcul Chindia <br />09.00 – 23.00 - Târgul meșterilor populari organizat de Centrul de Cultură al Județului Dâmbovița – Locație: Parcul Mitropoliei <br />11:00 – 18:00 – Salonul Editorial ”Ion Heliade Rădulescu” – Locație: Scuarul Primăriei <br />11:00 – 21:00 - Târgul de Anticariat – Locație: Scuarul Primăriei <br />11:00 –18:00 - Stand Expozițional de promovare a obiectivelor turistice din Municipiul Târgoviște  / Județul Dâmbovița  –  organizat de B.P.P.C,D.T  în parteneriat cu Complexul Muzeal ,,Curtea Domnească”. Locație: Scuarul Primăriei0 <br />11:30 - 18:00 - Valori târgoviștene – expoziție de costume populare, pictură, sculptură, ceasuri – Primăria Târgoviște <br />11:00 –– ”Cartierul Copiilor” – Spectacol de teatru  susținut de Teatrul Tony Bulandra - Locație: Parcul Chindia (zona ruine) <br />12:00 - ”Cartierul Copiilor” – Spectacol de dans – clasa Daniela Rotari  - Locație: Parcul Chindia (zona ruine) <br />14:30 – ”Cartierul Copiilor” – Spectacol interactiv și concursuri pentru copii – Teatrul Vostru Sibiu - Locație: Parcul Chindia (zona ruine) <br />16:30 -– ”Cartierul Copiilor” – Opera Comică pentru copii București - Locație: Parcul Chindia (zona ruine) <br />17:00 – Expoziție ”Retrospectiva anualelor de arhitectură”, realizată de Ordinul Arhitecților din România, filiala Muntenia Vest – Locație: Centrul Vechi al municipiului Târgoviște <br />20:30 – Concert ”Renașterea spiritului – Călătorie Balcanică” susținut de Ovidiu Lipan Țăndărică și invitații săi: Rona Hartner, Stelu Enache, Panțîru Brass, Grupul Balcano – Locație: Parcul Chindia (zona ruine)  <br /><br />♦Activități sportive♦<br /><br />17.00 – Cupa Zilele Cetății la tenis de câmp : juniori și seniori- Locație: Parcul Chindia și Baza sportivă Vascony   <br />17.00 – Cupa Chindia la Fotbal – Turneul Cartierelor - festivitatea de premiere -  Locație: Complexul Turistic de Natație <br />18.00 – FOTBAL: Echipa Consiliului Local Municipal vs. Old Boys ”Petrolul Ploiești” - Locație: Complexul Turistic de Natație  <br /><br />     ?08 septembrie 2019?<br /><br />♦Activități festive și religioase♦<br /><br />09:00 – Slujba religioasă de Sfânta Zi a Nașterii Maicii Domnului - Locație: Catedrala Mitropolitană Târgoviște <br />12:00 – Procesiune. Traseu: Mitropolia Târgoviște-Bulevardul Mircea cel Bătrân-Calea Domnească- Curtea Domnească <br />13:00 – Ședința festivă a Consiliului Local Municipal Târgoviște – Locație: Curtea Domnească  <br /><br />♦Activități tradiționale, artistice și culturale♦<br /><br />10.00 – 23.00 – Târgul negustorilor organizat de Primăria Municipiului Târgoviște - Locație: Parcul Chindia <br />10.00 – 23.00 - Târgul meșterilor populari organizat de Centrul de Cultură al Județului Dâmbovița – Locație: Parcul Mitropoliei <br />10:00 – 18:00 - Târgul de Anticariat – Locație: Scuarul Primăriei <br />10:00 - 18:00 – Salonul Editorial ”Ion Heliade Rădulescu” – Locație: Scuarul Primăriei <br />10:00 - 18:00 - Stand Expozițional de promovare a obiectivelor turistice din Municipiul Târgoviște  / Județul Dâmbovița  –  organizat de B.P.P.C,D.T  în parteneriat cu Complexul Muzeal ,,Curtea Domnească”. Locație: Scuarul Primăriei <br />11:00 – Cartierul Copiilor – Teatrul Vostru Sibiu - spectacol interactiv, concursuri cu și pentru copii - Locație: Parcul Chindia (zona ruine) <br />11:30 - 16:00 - Valori târgoviștene – expoziție de costume populare, pictură, sculptură, ceasuri – Primăria Târgoviște<br />12:30 – Cartierul Copiilor – Spectacol pentru copii cu Magicianul (Marian Râlea) - Locație: Parcul Chindia (zona ruine) <br />15:00 – Premierea concurenților din cadrul Festivalului-Concurs "Grădinile internaționale ale Targovistei" - Locație: Parcul Chindia<br />17:00 – Valori târgoviștene: Corul Liceului Ienăchiță Văcărescu și Concert de muzică de film –susținut de orchestra Liceului Bălașa Doamna - Locație: Parcul Chindia (zona ruine) <br />20:00 - Concert de  muzică electronică – susținut de DJ KT și DJ Dinu Ivan - Locație: Parcul Chindia (zona ruine) <br />21:00 – Concert extraordinar – susținut de Goran Bregovic & Wedding and Funeral Band– Locație: Parcul Chindia (zona ruine) <br />După 22:00 – Foc de artificii – Locație: Parcul Chindia (zona ruine)  <br /><br />♦Activități sportive♦<br /><br />15.00 –- Festivitatea de premiere - Cupa Zilele Cetății la tenis de câmp : juniori și seniori - Locație: Parcul Chindia și Baza sportivă Vascony<br /><br />   ? ACCESUL ESTE GRATUIT ?\n\n</BODY>\n</HTML>

LOCATION:Târgoviște, România
END:VEVENT

END:VCALENDAR
