BEGIN:VCALENDAR
VERSION:2.0
PRODID:-//hacksw/handcal//NONSGML v1.0//EN
BEGIN:VEVENT
UID:f1321cc65fccea7becd4b11a60a3eb0b
DTSTAMP:20260426T000026Z

DTSTART:20200907T000000
DTEND:20200907T120000
SUMMARY:Zilele Cetății - DAY 3
DESCRIPTION: 10:00 – Premierea cuplurilor care împlinesc 50 de ani de căsătorie –  Locaţie: Teatrul de vară (Parcul Chindia)\n\n11:00 – 18:00 – Stand Expoziţional de promovare a obiectivelor turistice din Municipiul Târgovişte/Judeţul Dâmboviţa – organizat de B.P.P.C.D.T în parteneriat cu Complexul Muzeal „Curtea Domnească”. Locaţie: Scuarul Primăriei\n\nSimpozionul „Mari voievozi ctitori în cetatea milenară a Târgoviştei” – organizat de B.P.P.C.D.T – Locaţie: Scuarul Primăriei\n\n18:00 – Valori târgoviştene – Corul Appassionato, dirijor prof. Florin Badea, Corul Cantiamo al Liceului Ienăchiţă Văcărescu, dirijor prof Matei Bogdan – Locaţie: Teatrul de vară (Parcul Chindia)\n\n19:00 – Orchestra Albeşteanu – bariton Marius Nine şi solist Valentin Albeşteanu – Locaţie: Teatrul de vară (Parcul Chindia)\n\n20:00 – Concert de muzică de film – Orchestra simfonică de tineret Andante – Locaţie: Teatrul de vară (Parcul Chindia)

X-ALT-DESC;FMTTYPE=text/html:<!DOCTYPE HTML PUBLIC "-//W3C//DTD HTML 3.2//EN">\n<HTML>\n<HEAD>\n<META NAME="Generator" CONTENT="MS Exchange Server version 08.00.0681.000">\n<TITLE></TITLE>\n</HEAD>\n<BODY>\n<!-- Converted from text/rtf format -->\n\n 10:00 – Premierea cuplurilor care împlinesc 50 de ani de căsătorie –  Locaţie: Teatrul de vară (Parcul Chindia)<br /><br />11:00 – 18:00 – Stand Expoziţional de promovare a obiectivelor turistice din Municipiul Târgovişte/Judeţul Dâmboviţa – organizat de B.P.P.C.D.T în parteneriat cu Complexul Muzeal „Curtea Domnească”. Locaţie: Scuarul Primăriei<br /><br />Simpozionul „Mari voievozi ctitori în cetatea milenară a Târgoviştei” – organizat de B.P.P.C.D.T – Locaţie: Scuarul Primăriei<br /><br />18:00 – Valori târgoviştene – Corul Appassionato, dirijor prof. Florin Badea, Corul Cantiamo al Liceului Ienăchiţă Văcărescu, dirijor prof Matei Bogdan – Locaţie: Teatrul de vară (Parcul Chindia)<br /><br />19:00 – Orchestra Albeşteanu – bariton Marius Nine şi solist Valentin Albeşteanu – Locaţie: Teatrul de vară (Parcul Chindia)<br /><br />20:00 – Concert de muzică de film – Orchestra simfonică de tineret Andante – Locaţie: Teatrul de vară (Parcul Chindia)\n\n</BODY>\n</HTML>

LOCATION:Târgoviște, Dâmbovița, România
END:VEVENT

END:VCALENDAR
