BEGIN:VCALENDAR
VERSION:2.0
PRODID:-//hacksw/handcal//NONSGML v1.0//EN
BEGIN:VEVENT
UID:e900a851a70c0f41f01b84c669f5b7bc
DTSTAMP:20260426T011858Z

DTSTART:20170904T110000
DTEND:20170911T104500
SUMMARY:ZILELE ORASULUI TARGOVISTE 2017
DESCRIPTION:PROGRAMUL EVENIMENTELOR:\n\nLUNI, 4 SEPTEMBRIE\n\n17.00 - Cupa Chindia la Fotbal – Turneul Cartierelor\nLocație: Complexul Turistic de Natație\n17.00 – Cupa Zilele Cetății la Tenis de câmp\nLocație: Parcul Chindia și Baza sportivă Vascony\n\nMARȚI, 5 SEPTEMBRIE\n\n11.00 – Primirea delegațiilor Ansamblurilor Folclorice la Primăria Târgoviște\n17.00 – Deschiderea Festivalului Internațional de Folclor.\n*Invitați din: Italia, Spania, Turcia, Serbia, Macedonia, Bulgaria, Republica Moldova, România\nLocație: Parcul Mitropoliei\n17.00 - Cupa Chindia la Fotbal – Turneul Cartierelor\nLocație: Complexul Turistic de Natație\n17.00 – Cupa Zilele Cetății la Tenis de câmp\nLocație: Parcul Chindia și Baza sportivă Vascony\n\nMIERCURI, 6 SEPTEMBRIE\n\n11.00 – Semnare protocol Târgoviște – Castellón de la Plana\nLocație: Primăria Municipiului Târgoviște - Sala Florentină\n17.00 - Cupa Chindia la Fotbal – Turneul Cartierelor\nLocație: Complexul Turistic de Natație\n17.00 – Cupa Zilele Cetății la Tenis de câmp\nLocație: Parcul Chindia și Baza sportivă Vascony\n17.00 – Festivalul Internațional de Folclor\nLocație: Parcul Mitropoliei\n19.00 – CONCERT Vlad Miriță & Prietenii. Invitați: Marcel Pavel, Nico, Monica Anghel, Paula Seling, Ionuț Fulea, Sebastian Stan și alții\nLocație: Piața Tricolorului\n\nJOI, 7 SEPTEMBRIE\n\n17.00 – Festivalul Internațional de Folclor\nLocație: Parcul Mitropoliei\n17.00 – Cupa Chindia la Fotbal – Turneul Cartierelor\nLocație: Complexul Turistic de Natație\n17.00 – Cupa Zilele Cetății la Tenis de câmp\nLocație: Parcul Chindia și Baza sportivă Vascony\n18.00 – FOTBAL: Echipa Consiliului Local Municipal vs. „Old Boys” DINAMO BUCUREȘTI\nLocație: Complexul Turistic de Natație\n19.00 – Festivalul Național Ion Dolănescu – ediția a IV-a\nLocație: Piața Tricolorului\n\nVINERI, 8 SEPTEMBRIE\n\n9.30 – Slujbă religioasă în cinstea Nașterii Maicii Domnului\nLocație: Catedrala Mitropolitană\n12.00 – Procesiune\nTraseu: Mitropolia Târgoviște – Curtea Domnească Târgoviște\n13.00 - Ședința Festivă a Consiliului Local Municipal – Acordarea titlurilor de Cetățean de Onoare\n- Lansare „Istoria Târgoviștei. O Cetate eternă a românilor” – George Coandă\n- Lansare „Târgoviște – Ore astrale ale Cetății (Analecte)” – Victor Petrescu și Mihai Stan\nLocație: Curtea Domnească\n10.00 – 18.00 – Festivalul - Concurs “Grădinile Internaționale ale Târgoviștei“ (Proiect cu finanțare europeană)\nLocație: Parcul Chindia\n16.00 – Deschiderea Salonului Editorial I.H. Rădulescu\nLocație: Piața Revoluției\n17.00 – Festivalul Internațional de Folclor\nLocație: Parcul Mitropoliei\n18.00 – Cupa Zilele Cetății la Tenis de câmp – Semifinale\nLocație: Parcul Chindia\n18.00 – Cupa Chindia la Fotbal – FINALA\nLocație: Parcul Chindia\n19.00 – Parada Zilelor Cetății Târgoviște\nTraseu: Gara Târgoviște – Curtea Domnească\n20.00 – CONCERT - Invitați: Hardton, Trooper, Ducu Bertzi, Elena Gheorghe, Smiley\nLocație: Piața Tricolorului\n\nSÂMBĂTĂ, 9 SEPTEMBRIE\n\n10.00 – Conferință de presă - Festivalul - Concurs “Grădinile Internaționale ale Târgoviștei“ (Proiect cu finanțare europeană)\nLocație: Parcul Chindia\n10.00 – 18.00 - Salonul editorial Ion Heliade Rădulescu\nLocație: Piața Revoluției\n17.00 – Retrospectivă Mihai Șerbănescu. Pictură. Grafică. Desen.\nLocație: Muzeul de Artă Târgoviște\n18.00 – Cupa Zilele Cetății la Tenis de câmp - FINALELE\nLocație: Parcul Chindia\n19.00 – Anniversarium Florin Georgescu – 40 de ani de carieră. Invitați: Ștefan Ignat, Liviu Indricău, Maria Jinga, Alin Stoica, Yury, Iordache Basalic.\nLocație: Piața Tricolorului\n21.00 – Cetatea celor 33 Voievozi – MIHAI VITEAZUL – Spectacol evocare istorică – LUPII ALBI\nLocație: Curtea Domnească\n\nDUMINICĂ, 10 SEPTEMBRIE\n\n10.00 – Resfințirea Mănăstirii Stelea\nLocație: Mănăstirea Stelea\n13.00 - Simpozion - Festivalul - Concurs “Grădinile Internaționale ale Târgoviștei“ (Proiect cu finanțare europeană)\nLocație: Muzeul de Istorie\n10.00 – 18.00 - Salon Editorial Ion Heliade Rădulescu\nLocație: Piața Revoluției\n15:00 - Desemnarea câștigătorilor și festivitatea de premiere a participanților la Festivalul-concurs “Grădinile Internaționale ale Târgoviștei“V(Proiect cu finanțare europeană)\nLocație: Parcul Chindia\n20:30 - Spectacol de teatru-dans "Lumini și Umbre" – Teatrul Tony Bulandra\nLocație: Parcul Chindia, zona ruine\n21:30 - FOC DE ARTIFICII\nLocație: Parcul Chindia – zona ruine

X-ALT-DESC;FMTTYPE=text/html:<!DOCTYPE HTML PUBLIC "-//W3C//DTD HTML 3.2//EN">\n<HTML>\n<HEAD>\n<META NAME="Generator" CONTENT="MS Exchange Server version 08.00.0681.000">\n<TITLE></TITLE>\n</HEAD>\n<BODY>\n<!-- Converted from text/rtf format -->\n\nPROGRAMUL EVENIMENTELOR:<br /><br />LUNI, 4 SEPTEMBRIE<br /><br />17.00 - Cupa Chindia la Fotbal – Turneul Cartierelor<br />Locație: Complexul Turistic de Natație<br />17.00 – Cupa Zilele Cetății la Tenis de câmp<br />Locație: Parcul Chindia și Baza sportivă Vascony<br /><br />MARȚI, 5 SEPTEMBRIE<br /><br />11.00 – Primirea delegațiilor Ansamblurilor Folclorice la Primăria Târgoviște<br />17.00 – Deschiderea Festivalului Internațional de Folclor.<br />*Invitați din: Italia, Spania, Turcia, Serbia, Macedonia, Bulgaria, Republica Moldova, România<br />Locație: Parcul Mitropoliei<br />17.00 - Cupa Chindia la Fotbal – Turneul Cartierelor<br />Locație: Complexul Turistic de Natație<br />17.00 – Cupa Zilele Cetății la Tenis de câmp<br />Locație: Parcul Chindia și Baza sportivă Vascony<br /><br />MIERCURI, 6 SEPTEMBRIE<br /><br />11.00 – Semnare protocol Târgoviște – Castellón de la Plana<br />Locație: Primăria Municipiului Târgoviște - Sala Florentină<br />17.00 - Cupa Chindia la Fotbal – Turneul Cartierelor<br />Locație: Complexul Turistic de Natație<br />17.00 – Cupa Zilele Cetății la Tenis de câmp<br />Locație: Parcul Chindia și Baza sportivă Vascony<br />17.00 – Festivalul Internațional de Folclor<br />Locație: Parcul Mitropoliei<br />19.00 – CONCERT Vlad Miriță & Prietenii. Invitați: Marcel Pavel, Nico, Monica Anghel, Paula Seling, Ionuț Fulea, Sebastian Stan și alții<br />Locație: Piața Tricolorului<br /><br />JOI, 7 SEPTEMBRIE<br /><br />17.00 – Festivalul Internațional de Folclor<br />Locație: Parcul Mitropoliei<br />17.00 – Cupa Chindia la Fotbal – Turneul Cartierelor<br />Locație: Complexul Turistic de Natație<br />17.00 – Cupa Zilele Cetății la Tenis de câmp<br />Locație: Parcul Chindia și Baza sportivă Vascony<br />18.00 – FOTBAL: Echipa Consiliului Local Municipal vs. „Old Boys” DINAMO BUCUREȘTI<br />Locație: Complexul Turistic de Natație<br />19.00 – Festivalul Național Ion Dolănescu – ediția a IV-a<br />Locație: Piața Tricolorului<br /><br />VINERI, 8 SEPTEMBRIE<br /><br />9.30 – Slujbă religioasă în cinstea Nașterii Maicii Domnului<br />Locație: Catedrala Mitropolitană<br />12.00 – Procesiune<br />Traseu: Mitropolia Târgoviște – Curtea Domnească Târgoviște<br />13.00 - Ședința Festivă a Consiliului Local Municipal – Acordarea titlurilor de Cetățean de Onoare<br />- Lansare „Istoria Târgoviștei. O Cetate eternă a românilor” – George Coandă<br />- Lansare „Târgoviște – Ore astrale ale Cetății (Analecte)” – Victor Petrescu și Mihai Stan<br />Locație: Curtea Domnească<br />10.00 – 18.00 – Festivalul - Concurs “Grădinile Internaționale ale Târgoviștei“ (Proiect cu finanțare europeană)<br />Locație: Parcul Chindia<br />16.00 – Deschiderea Salonului Editorial I.H. Rădulescu<br />Locație: Piața Revoluției<br />17.00 – Festivalul Internațional de Folclor<br />Locație: Parcul Mitropoliei<br />18.00 – Cupa Zilele Cetății la Tenis de câmp – Semifinale<br />Locație: Parcul Chindia<br />18.00 – Cupa Chindia la Fotbal – FINALA<br />Locație: Parcul Chindia<br />19.00 – Parada Zilelor Cetății Târgoviște<br />Traseu: Gara Târgoviște – Curtea Domnească<br />20.00 – CONCERT - Invitați: Hardton, Trooper, Ducu Bertzi, Elena Gheorghe, Smiley<br />Locație: Piața Tricolorului<br /><br />SÂMBĂTĂ, 9 SEPTEMBRIE<br /><br />10.00 – Conferință de presă - Festivalul - Concurs “Grădinile Internaționale ale Târgoviștei“ (Proiect cu finanțare europeană)<br />Locație: Parcul Chindia<br />10.00 – 18.00 - Salonul editorial Ion Heliade Rădulescu<br />Locație: Piața Revoluției<br />17.00 – Retrospectivă Mihai Șerbănescu. Pictură. Grafică. Desen.<br />Locație: Muzeul de Artă Târgoviște<br />18.00 – Cupa Zilele Cetății la Tenis de câmp - FINALELE<br />Locație: Parcul Chindia<br />19.00 – Anniversarium Florin Georgescu – 40 de ani de carieră. Invitați: Ștefan Ignat, Liviu Indricău, Maria Jinga, Alin Stoica, Yury, Iordache Basalic.<br />Locație: Piața Tricolorului<br />21.00 – Cetatea celor 33 Voievozi – MIHAI VITEAZUL – Spectacol evocare istorică – LUPII ALBI<br />Locație: Curtea Domnească<br /><br />DUMINICĂ, 10 SEPTEMBRIE<br /><br />10.00 – Resfințirea Mănăstirii Stelea<br />Locație: Mănăstirea Stelea<br />13.00 - Simpozion - Festivalul - Concurs “Grădinile Internaționale ale Târgoviștei“ (Proiect cu finanțare europeană)<br />Locație: Muzeul de Istorie<br />10.00 – 18.00 - Salon Editorial Ion Heliade Rădulescu<br />Locație: Piața Revoluției<br />15:00 - Desemnarea câștigătorilor și festivitatea de premiere a participanților la Festivalul-concurs “Grădinile Internaționale ale Târgoviștei“V(Proiect cu finanțare europeană)<br />Locație: Parcul Chindia<br />20:30 - Spectacol de teatru-dans "Lumini și Umbre" – Teatrul Tony Bulandra<br />Locație: Parcul Chindia, zona ruine<br />21:30 - FOC DE ARTIFICII<br />Locație: Parcul Chindia – zona ruine\n\n</BODY>\n</HTML>

LOCATION:
END:VEVENT

END:VCALENDAR
