BEGIN:VCALENDAR
VERSION:2.0
PRODID:-//hacksw/handcal//NONSGML v1.0//EN
BEGIN:VEVENT
UID:910d1f0774c91cd6bf83493cd12ab8c2
DTSTAMP:20260426T000028Z

DTSTART:20200906T000000
DTEND:20200906T120000
SUMMARY:Zilele Cetății - DAY 2
DESCRIPTION: DUMINICĂ – 06 septembrie 2020\n\n11.00 – 18:00 – Salonul Editorial „Ion Heliade Rădulescu” –  Locație: Scuarul Primăriei\n\n11.00 – 18:00 – Stand Expozițional de promovare a obiectivelor turistice din Municipiul Târgoviște / Județul Dâmbovița – organizat de B.P.P.C.D.T în parteneriat cu Complexul Muzeal „Curtea Domnească”. Locație: Scuarul Primăriei\n\n11:00 – Spectacol de teatru pentru copii organizat de Teatrul Municipal Tony Bulandra – Locație: Teatrul de vară (Parcul Chindia)\n\n18:00 – Concert de muzică clasică: invitați speciali Felicia Filip și Gheorghe Zamfir, acompaniați de Orchestra Simfonică Muntenia a Centrului Județean de Cultură Dâmbovița – Locație: Piața Mihai Viteazul\n

X-ALT-DESC;FMTTYPE=text/html:<!DOCTYPE HTML PUBLIC "-//W3C//DTD HTML 3.2//EN">\n<HTML>\n<HEAD>\n<META NAME="Generator" CONTENT="MS Exchange Server version 08.00.0681.000">\n<TITLE></TITLE>\n</HEAD>\n<BODY>\n<!-- Converted from text/rtf format -->\n\n DUMINICĂ – 06 septembrie 2020<br /><br />11.00 – 18:00 – Salonul Editorial „Ion Heliade Rădulescu” –  Locație: Scuarul Primăriei<br /><br />11.00 – 18:00 – Stand Expozițional de promovare a obiectivelor turistice din Municipiul Târgoviște / Județul Dâmbovița – organizat de B.P.P.C.D.T în parteneriat cu Complexul Muzeal „Curtea Domnească”. Locație: Scuarul Primăriei<br /><br />11:00 – Spectacol de teatru pentru copii organizat de Teatrul Municipal Tony Bulandra – Locație: Teatrul de vară (Parcul Chindia)<br /><br />18:00 – Concert de muzică clasică: invitați speciali Felicia Filip și Gheorghe Zamfir, acompaniați de Orchestra Simfonică Muntenia a Centrului Județean de Cultură Dâmbovița – Locație: Piața Mihai Viteazul<br />\n\n</BODY>\n</HTML>

LOCATION:Piața Mihai Viteazu, Târgoviște, Dâmbovița, România
END:VEVENT

END:VCALENDAR
