BEGIN:VCALENDAR
VERSION:2.0
PRODID:-//hacksw/handcal//NONSGML v1.0//EN
BEGIN:VEVENT
UID:526c44d2362cb2fc3ae0c4ebc7e792d9
DTSTAMP:20260425T235938Z

DTSTART:20180921T000000
DTEND:20180921T235959
SUMMARY:Ziua Internațională a Păcii-1000 de cocori origami
DESCRIPTION:Ziua Internațională a Păcii se apropie, iar ARTelier te invită să sărbatorim împreuna, împăturind 1000 de cocori origami!\n\nCocorul este considerat o pasare sacră în Japonia – care traiește o sută de ani – iar dacă o persoană impăturește 1000 de cocori, atunci i se va indeplini o dorință, spune legenda.\nAșadar, vă învit să facem echipă pentru aceeasi dorința comună, cu iubire in suflet sa fim impreuna pentru PACE.\nAtelierul este gratuit și veți fi instruiți in realizarea unui cocor din hărtie de către trainerii nostri, dupa care vom face impreuna cat mai multi, pentru a ajunge la numarul 1000. Materialele sunt incluse.\n\nPe parcursul atelierului vom proiecta și viziona un film si vom bea ceai aromat, iar fiecare va scrie un cuvant in semn de recunostinta pentru planeta, pe care le vom expune in centrul nostru alaturi de cocorii colorati.\nNu exista limita de varsta\n\nDacă sunteți in București și vreți să participati la eveniment, Acuarela găzduiește acest eveniment organizat de Mokko- Oana Brătilă\n\n"Evenimentul nu este doar despre pace, ci și despre coeziune socială - despre comunitate, despre lucrurile frumoase pe care le putem face împreună. "- Mokko

X-ALT-DESC;FMTTYPE=text/html:<!DOCTYPE HTML PUBLIC "-//W3C//DTD HTML 3.2//EN">\n<HTML>\n<HEAD>\n<META NAME="Generator" CONTENT="MS Exchange Server version 08.00.0681.000">\n<TITLE></TITLE>\n</HEAD>\n<BODY>\n<!-- Converted from text/rtf format -->\n\nZiua Internațională a Păcii se apropie, iar ARTelier te invită să sărbatorim împreuna, împăturind 1000 de cocori origami!<br /><br />Cocorul este considerat o pasare sacră în Japonia – care traiește o sută de ani – iar dacă o persoană impăturește 1000 de cocori, atunci i se va indeplini o dorință, spune legenda.<br />Așadar, vă învit să facem echipă pentru aceeasi dorința comună, cu iubire in suflet sa fim impreuna pentru PACE.<br />Atelierul este gratuit și veți fi instruiți in realizarea unui cocor din hărtie de către trainerii nostri, dupa care vom face impreuna cat mai multi, pentru a ajunge la numarul 1000. Materialele sunt incluse.<br /><br />Pe parcursul atelierului vom proiecta și viziona un film si vom bea ceai aromat, iar fiecare va scrie un cuvant in semn de recunostinta pentru planeta, pe care le vom expune in centrul nostru alaturi de cocorii colorati.<br />Nu exista limita de varsta<br /><br />Dacă sunteți in București și vreți să participati la eveniment, Acuarela găzduiește acest eveniment organizat de Mokko- Oana Brătilă<br /><br />"Evenimentul nu este doar despre pace, ci și despre coeziune socială - despre comunitate, despre lucrurile frumoase pe care le putem face împreună. "- Mokko\n\n</BODY>\n</HTML>

LOCATION:Târgoviște, România
END:VEVENT

END:VCALENDAR
