BEGIN:VCALENDAR
VERSION:2.0
PRODID:-//hacksw/handcal//NONSGML v1.0//EN
BEGIN:VEVENT
UID:875152f7ff4a351d9a3a4a73f990f63a
DTSTAMP:20260426T000306Z

DTSTART:20221129T000000
DTEND:20221130T235959
SUMMARY:Premiera "Gata oricând! - Eroii de la Podul Jiului"
DESCRIPTION:Avem deosebita plăcere să vă anunțam că, marți 29 noiembrie, de la ora\n19:oo, la Cinematograful Independența din Târgoviște, vă avea loc\nlansarea în cinematografe a filmului istoric "Gata oricând! - Eroii de\nla Podul Jiului", într-o proiecție specială în prezența echipei.\n   Și cum surprizele nu se opresc aici, după vizionarea Premierei,\npublicul spectator este invitat să participle la o sesiune de Q&A, unde\npot pune direct întrebări actorilor și pot afla lucruri nespuse până\nacum.\n   "Eroii de la podul Jiului" este prima parte din trilogia "Gata\noricând!", dedicată cercetașilor care au luptat în Primul Război\nMondial. Este clasificat cu AG.\n\n   Atașat acestui mesaj electronic, regășiți afișul filmului, iar în cele\nce urmează: sinopsisul, teaser-ul precum și trailerul oficial, pentru a\nvă face o idee.\n\nSinopsis:\n\n   În dimineața zilei de 14 octombrie 1916, când un tânăr cercetaș\ndescoperă că temuta armată germană a ajuns nestingherită aproape de\nTârgu-Jiu, îl anunță în grabă pe comisarul orașului Ioan Popilian și\nîmpreuna cu câțiva polițiști și cercetași, ajutați de câțiva civili\nrămași în orașul deja evacuat, luptă la Podul Jiului pentru a opri\nocuparea orașului de inamic până la sosirea armatei române. Ocuparea\npodului ar fi dus la ocuparea gării, lucru ce ar permis armatei germane\nsă oprească retragerea armatei române. Un film după o întâmplare reală.\n

X-ALT-DESC;FMTTYPE=text/html:<!DOCTYPE HTML PUBLIC "-//W3C//DTD HTML 3.2//EN">\n<HTML>\n<HEAD>\n<META NAME="Generator" CONTENT="MS Exchange Server version 08.00.0681.000">\n<TITLE></TITLE>\n</HEAD>\n<BODY>\n<!-- Converted from text/rtf format -->\n\nAvem deosebita plăcere să vă anunțam că, marți 29 noiembrie, de la ora<br />19:oo, la Cinematograful Independența din Târgoviște, vă avea loc<br />lansarea în cinematografe a filmului istoric "Gata oricând! - Eroii de<br />la Podul Jiului", într-o proiecție specială în prezența echipei.<br />   Și cum surprizele nu se opresc aici, după vizionarea Premierei,<br />publicul spectator este invitat să participle la o sesiune de Q&A, unde<br />pot pune direct întrebări actorilor și pot afla lucruri nespuse până<br />acum.<br />   "Eroii de la podul Jiului" este prima parte din trilogia "Gata<br />oricând!", dedicată cercetașilor care au luptat în Primul Război<br />Mondial. Este clasificat cu AG.<br /><br />   Atașat acestui mesaj electronic, regășiți afișul filmului, iar în cele<br />ce urmează: sinopsisul, teaser-ul precum și trailerul oficial, pentru a<br />vă face o idee.<br /><br />Sinopsis:<br /><br />   În dimineața zilei de 14 octombrie 1916, când un tânăr cercetaș<br />descoperă că temuta armată germană a ajuns nestingherită aproape de<br />Târgu-Jiu, îl anunță în grabă pe comisarul orașului Ioan Popilian și<br />împreuna cu câțiva polițiști și cercetași, ajutați de câțiva civili<br />rămași în orașul deja evacuat, luptă la Podul Jiului pentru a opri<br />ocuparea orașului de inamic până la sosirea armatei române. Ocuparea<br />podului ar fi dus la ocuparea gării, lucru ce ar permis armatei germane<br />să oprească retragerea armatei române. Un film după o întâmplare reală.<br />\n\n</BODY>\n</HTML>

LOCATION:Cinematograful Independența, Piața Tricolorului, Târgoviște, Dâmbovița, 130016, România
END:VEVENT

END:VCALENDAR
