BEGIN:VCALENDAR
VERSION:2.0
PRODID:-//hacksw/handcal//NONSGML v1.0//EN
BEGIN:VEVENT
UID:02088084be1e053791103568e1bdcc05
DTSTAMP:20260425T212515Z

DTSTART:20180228T050000
DTEND:20180228T190000
SUMMARY:Smart business
DESCRIPTION:Fonduri europene

X-ALT-DESC;FMTTYPE=text/html:<!DOCTYPE HTML PUBLIC "-//W3C//DTD HTML 3.2//EN">\n<HTML>\n<HEAD>\n<META NAME="Generator" CONTENT="MS Exchange Server version 08.00.0681.000">\n<TITLE></TITLE>\n</HEAD>\n<BODY>\n<!-- Converted from text/rtf format -->\n\nFonduri europene\n\n</BODY>\n</HTML>

LOCATION:
END:VEVENT

END:VCALENDAR
