BEGIN:VCALENDAR
VERSION:2.0
PRODID:-//hacksw/handcal//NONSGML v1.0//EN
BEGIN:VEVENT
UID:1ce7cdd1ec5fa9cf4a119447fcbdff19
DTSTAMP:20260426T000236Z

DTSTART:20180212T160000
DTEND:20180228T164500
SUMMARY:Discutii despre surse de finantare 
DESCRIPTION:Agenţia pentru Dezvoltare Regională Sud Muntenia, prin Direcţia Dezvoltare şi Comunicare, a editat Catalogul surselor de finanţare nerambursabilă pentru luna februarie 2018.

Scopul editării acestei publicaţii este de a veni în sprijinul potenţialilor beneficiari de fonduri nerambursabile din regiunea Sud Muntenia care doresc să realizeze diferite investiţii. Astfel, în acest document sunt prezentate oportunităţile de finanţare din programele operaţionale şi schemele de grant, ce se derulează în prezent în România, precum şi oportunităţile din Programul Naţional pentru Dezvoltare Rurală 2014 – 2020, INTERREG V-A şi URBACT III.

X-ALT-DESC;FMTTYPE=text/html:<!DOCTYPE HTML PUBLIC "-//W3C//DTD HTML 3.2//EN">\n<HTML>\n<HEAD>\n<META NAME="Generator" CONTENT="MS Exchange Server version 08.00.0681.000">\n<TITLE></TITLE>\n</HEAD>\n<BODY>\n<!-- Converted from text/rtf format -->\n\nAgenţia pentru Dezvoltare Regională Sud Muntenia, prin Direcţia Dezvoltare şi Comunicare, a editat Catalogul surselor de finanţare nerambursabilă pentru luna februarie 2018.

Scopul editării acestei publicaţii este de a veni în sprijinul potenţialilor beneficiari de fonduri nerambursabile din regiunea Sud Muntenia care doresc să realizeze diferite investiţii. Astfel, în acest document sunt prezentate oportunităţile de finanţare din programele operaţionale şi schemele de grant, ce se derulează în prezent în România, precum şi oportunităţile din Programul Naţional pentru Dezvoltare Rurală 2014 – 2020, INTERREG V-A şi URBACT III.\n\n</BODY>\n</HTML>

LOCATION:
END:VEVENT

END:VCALENDAR
