BEGIN:VCALENDAR
VERSION:2.0
PRODID:-//hacksw/handcal//NONSGML v1.0//EN
BEGIN:VEVENT
UID:c0a1b600412d369240f2bb40ae4dea05
DTSTAMP:20260426T000139Z

DTSTART:20180220T190000
DTEND:20180220T210000
SUMMARY:Hub Talks – Who’s afraid of technology?
DESCRIPTION:La fiecare ediție a Hub Talks ne propunem să dezbatem împreună cu invitații noștri un subiect din mai multe perspective.

Tema acestei ediții este ”Who’s afraid of technology?”, iar la sfârșitul evenimentului ne dorim să avem o imagine amplă a modului în care tehnologia influențează modul în care lucrăm, interacționăm sau asupra business-urilor în care suntem implicați.

Detalii și înscrieri aici: http://bit.ly/afraid-of-technology

X-ALT-DESC;FMTTYPE=text/html:<!DOCTYPE HTML PUBLIC "-//W3C//DTD HTML 3.2//EN">\n<HTML>\n<HEAD>\n<META NAME="Generator" CONTENT="MS Exchange Server version 08.00.0681.000">\n<TITLE></TITLE>\n</HEAD>\n<BODY>\n<!-- Converted from text/rtf format -->\n\nLa fiecare ediție a Hub Talks ne propunem să dezbatem împreună cu invitații noștri un subiect din mai multe perspective.

Tema acestei ediții este ”Who’s afraid of technology?”, iar la sfârșitul evenimentului ne dorim să avem o imagine amplă a modului în care tehnologia influențează modul în care lucrăm, interacționăm sau asupra business-urilor în care suntem implicați.

Detalii și înscrieri aici: http://bit.ly/afraid-of-technology\n\n</BODY>\n</HTML>

LOCATION:
END:VEVENT

END:VCALENDAR
