BEGIN:VCALENDAR
VERSION:2.0
PRODID:-//hacksw/handcal//NONSGML v1.0//EN
BEGIN:VEVENT
UID:40174db90033d3fa586e38929bf62a64
DTSTAMP:20260426T000313Z

DTSTART:20230908T170000
DTEND:20230908T190000
SUMMARY:Concert simfonic in memoriam Eduard Caudella
DESCRIPTION:Vineri 8 septembrie, de la ora 17.00, la Teatrul Tony Bulandra va avea loc concertul extraordinar susținut de Orchestra Simfonică de Tineret „Andante”, în cadrul Zilelor Cetății Târgoviște 2023, eveniment conex desfășurat sub egida prestigiosului Festival Internațional „George Enescu”, ediția 2023.\n\nSub bagheta unui dirijor excepțional, Tiberiu Dragoș Oprea, Orchestra Simfonică de Tineret „Andante” va reda cu emoție și virtuozitate lucrări de referință din repertoriul clasic. Veți avea ocazia să vă lăsați purtați în universul muzicii, într-o călătorie sonoră ce vă va emoționa, captiva și încânta.

X-ALT-DESC;FMTTYPE=text/html:<!DOCTYPE HTML PUBLIC "-//W3C//DTD HTML 3.2//EN">\n<HTML>\n<HEAD>\n<META NAME="Generator" CONTENT="MS Exchange Server version 08.00.0681.000">\n<TITLE></TITLE>\n</HEAD>\n<BODY>\n<!-- Converted from text/rtf format -->\n\nVineri 8 septembrie, de la ora 17.00, la Teatrul Tony Bulandra va avea loc concertul extraordinar susținut de Orchestra Simfonică de Tineret „Andante”, în cadrul Zilelor Cetății Târgoviște 2023, eveniment conex desfășurat sub egida prestigiosului Festival Internațional „George Enescu”, ediția 2023.<br /><br />Sub bagheta unui dirijor excepțional, Tiberiu Dragoș Oprea, Orchestra Simfonică de Tineret „Andante” va reda cu emoție și virtuozitate lucrări de referință din repertoriul clasic. Veți avea ocazia să vă lăsați purtați în universul muzicii, într-o călătorie sonoră ce vă va emoționa, captiva și încânta.\n\n</BODY>\n</HTML>

LOCATION:Teatrul Toni Bulandra, Aleea Trandafirilor, Cartier CFR, Târgoviște, Dâmbovița, 130051, România
END:VEVENT

END:VCALENDAR
