BEGIN:VCALENDAR
VERSION:2.0
PRODID:-//hacksw/handcal//NONSGML v1.0//EN
BEGIN:VEVENT
UID:2ca4dec6a4262f558ebaff08e25f28f0
DTSTAMP:20260420T093530Z

DTSTART:20230907T120000
DTEND:20230912T120000
SUMMARY:Zilele Cetatii Targoviste 2023
DESCRIPTION:Program complet „Zilele Cetății Târgoviște”\n\n04 – 07 septembrie\nComplexul Turistic de Natație\n18:00- 20:30 – Campionatul de fotbal între cartiere- ,,Cupa Cartierelor Târgoviște’’\n\n08 septembrie\nScuarul Primăriei\n10:00 – 21:00 –Salonul Editorial „Ion Heliade Rădulescu”- organizat de Biblioteca Județeană Dâmbovița\n11:00 – 18:00 – Târg de anticariat, expoziție de fotografie, Stand Expozițional de promovare a obiectivelor turistice din Municipiul Târgoviște, Stand Expozițional al echipelor de robotică Phantom și UnderConstruction, de la Colegiul Național ,,Constantin Carabella” din Târgoviște\n\nCentrul Vechi (Școala Populară de Arte)\n11:00 – 18:00 – Expoziție cu proiecte de arhitectură din cadrul Anualei OM 2021 – realizată de Ordinul Arhitecților din România, filiala Muntenia Vest\n\nEvenimente oficiale\n10:00 – 12:00 Participare la Sfânta Liturghie – Catedrala Mitropolitană din Târgoviște\n12:00 – 12:30 Procesiune Traseu: Mitropolia Târgoviște-Bulevardul Mircea cel Bătrân-Calea Domnească-Curtea Domnească\n12:30 Ședința festivă a Consiliului Local Municipal Târgoviște – Complexul Muzeal Curtea Domnească – Ruine\n\nParcul Chindiei (Zona Ruine)\n10:00 – 22:00 – Târgul meșterilor populari\n20:30 – 22:00 – Concert extraordinar susținut de HORIA BRENCIU & HB ORCHESTRA\n\nTeatrul Municipal Tony Bulandra\n17:00 – Concert ,,In memoriam Eduard Caudella”, eveniment conex desfășurat sub egida Festivalului Internațional ,,George Enescu”, 2023, susținut de Orchestra Simfonica de Tineret ,,Andante”, Dirijor: Tiberiu Dragoş Oprea, Solist vioara: Yasmina Elena Militaru, Solist violoncel: Octavian Lup (laureat al Concursului International ,,George Enescu”), Solist pian: Sarah-Alexandra Nidelcu, concert in cadrul Zilelor Cetății 2023, realizat în parteneriat cu Asociația SonoArt şi ARTEXIM – organizatorul Festivalului International ,,George Enescu”\n\nCinema Independența\n11:00 – Film pentru copii – Clifford: marele câine roșu (intrarea gratuită pentru copii)\n\nGrădina Zoologică\n10:00 -14:00 – Tur organizat al copiilor în incinta grădinii zoologice, hrănirea animalelor domestice, jocuri distractive, desene cu creta pe asfalt, înmânare diplome de participare\n\nClubul Pensionarilor\n11:00 – 13:00 – Concurs de table – Concurenții: beneficiarii clubului\n\nMuzeul Casa Romanței\n18:00 – Concert ”Tinerețea Romanței” – realizat de artista Alina Mavrodin Vasiliu\n\nComplexul Turistic de Natație\n18:00- 19:30 – Campionatul de fotbal între cartiere- ,,Cupa Cartierelor Târgoviște’’\n\nBaza de tenis V.I.Palas și Baza sportivă Vascony\n09:00-22:00- Turneu de tenis ,,Cupa Zilele Cetății”\n\n09 septembrie\nScuarul Primăriei\n10:00 – 21:00 – Salonul Editorial „Ion Heliade Rădulescu”- organizat de Biblioteca Județeană Dâmbovița – moment festiv\n11:00 – 18:00 – Târg de anticariat, expoziție de fotografie, Stand Expozițional de promovare a obiectivelor turistice din Municipiul Târgoviște, Stand Expozițional al echipelor de robotică Phantom și UnderConstruction, de la Colegiul Național ,,Constantin Carabella” din Târgoviște\n\nCentrul Vechi (Școala Populară de Arte)\n11:00 – 18:00 – Expoziție cu proiecte de arhitectură din cadrul Anualei OM 2021 – realizată de Ordinul Arhitecților din România, filiala Muntenia Vest\n\nParcul Chindiei (Zona Ruine)\n10:00 – 22:00 – Târgul meșterilor populari\n10:00 – 13:00 – Evenimente artistice pentru cei mici: Spectacol de teatru – ”Garoafele lui Trandafir”, concert afro cu trupa FOLI Jr., spectacol de dans al minorităților din municipiu, clovni și păpuși gigant\n19:30 –22:30 – Concert rock susținut de formațiile TROOPER și LOVEBITE\n\nStadionul Eugen Popescu\n18:00 – 18:30 – Spectacol de percuție susținut de trupa Barbarossa\n18:30 – 19:15 – Show aviatic susținut de Aeroclubul României\n\nCinema Independența\n11:00 – Premierea cuplurilor care împlinesc 50 de ani de căsătorie\n15:00 – Film pentru copii – Regele Leu (intrarea gratuită pentru copii)\n\nGrădina Zoologică\n11:00 -12:00 – Tur organizat al copiilor în incinta grădinii zoologice, hrănirea animalelor domestice, jocuri distractive, desene cu creta pe asfalt, înmânare diplome de participare\n\nClubul Pensionarilor\n11:00 – 13:00 – Concurs de rummy – Concurenții: beneficiarii clubului\n\nComplexul Turistic de Natație\n18:00- 19:30 – Campionatul de fotbal între cartiere – ,,Cupa Cartierelor Târgoviște’’\n\nBaza de tenis V.I.Palas și Baza sportivă Vascony\n09:00-22:00- Turneu de tenis ,,Cupa Zilele Cetății”\n\n10 septembrie\nScuarul Primăriei\n10:00 – 21:00 –Salonul Editorial „Ion Heliade Rădulescu”- organizat de Biblioteca Județeană Dâmbovița\n11:00 – 18:00 – Târg de anticariat, expoziție de fotografie, Stand Expozițional de promovare a obiectivelor turistice din Municipiul Târgoviște, Stand Expozițional al echipelor de robotică Phantom și UnderConstruction, de la Colegiul Național ,,Constantin Carabella” din Târgoviște\n\nCentrul Vechi (Școala Populară de Arte)\n11:00 – 18:00 – Expoziție cu proiecte de arhitectură din cadrul Anualei OM 2021 – realizată de Ordinul Arhitecților din România, filiala Muntenia Vest\n\nParcul Chindiei (Zona Ruine)\n10:00 – 22:00 – Târgul meșterilor populari\n10:00 – 13:00 – Evenimente artistice pentru cei mici: Spectacol de dans – susținut de Școala de dans Daniela Rotary, Școala de dans Dana Gym, spectacol de teatru ”Cei trei purceluși”- susținut de ateliere pictură pe față, clovni și păpuși gigant\n19:30 – 22:30 – Concert extraordinar susținut de artiștii LOREDANA, NICOLE CHERRY, DORIAN POPA\n22:30 – Show lasere și foc de artificii\n\nCinema Independența\n11:00 – Film pentru copii – Clifford: marele câine roșu (intrarea gratuită pentru copii)\n\nGrădina Zoologică\n10:00 -14:00 – Tur organizat în incinta grădinii zoologice, hrănirea animalelor domestice, jocuri distractive, desene cu creta pe asfalt, înmânare diplome de participare\n\nClubul Pensionarilor\n11:00 – 13:00 – Concurs de gastronomie – Concurenții: beneficiarii clubului\n\nComplexul Turistic de Natație\n18:00 – Campionatul de fotbal între cartiere- ,,Cupa Cartierelor Târgoviște’’ – finale\n\nBaza de tenis V.I.Palas și Baza sportivă Vascony\n09:00-22:00- Turneu de tenis ,,Cupa Zilele Cetății”\n

X-ALT-DESC;FMTTYPE=text/html:<!DOCTYPE HTML PUBLIC "-//W3C//DTD HTML 3.2//EN">\n<HTML>\n<HEAD>\n<META NAME="Generator" CONTENT="MS Exchange Server version 08.00.0681.000">\n<TITLE></TITLE>\n</HEAD>\n<BODY>\n<!-- Converted from text/rtf format -->\n\nProgram complet „Zilele Cetății Târgoviște”<br /><br />04 – 07 septembrie<br />Complexul Turistic de Natație<br />18:00- 20:30 – Campionatul de fotbal între cartiere- ,,Cupa Cartierelor Târgoviște’’<br /><br />08 septembrie<br />Scuarul Primăriei<br />10:00 – 21:00 –Salonul Editorial „Ion Heliade Rădulescu”- organizat de Biblioteca Județeană Dâmbovița<br />11:00 – 18:00 – Târg de anticariat, expoziție de fotografie, Stand Expozițional de promovare a obiectivelor turistice din Municipiul Târgoviște, Stand Expozițional al echipelor de robotică Phantom și UnderConstruction, de la Colegiul Național ,,Constantin Carabella” din Târgoviște<br /><br />Centrul Vechi (Școala Populară de Arte)<br />11:00 – 18:00 – Expoziție cu proiecte de arhitectură din cadrul Anualei OM 2021 – realizată de Ordinul Arhitecților din România, filiala Muntenia Vest<br /><br />Evenimente oficiale<br />10:00 – 12:00 Participare la Sfânta Liturghie – Catedrala Mitropolitană din Târgoviște<br />12:00 – 12:30 Procesiune Traseu: Mitropolia Târgoviște-Bulevardul Mircea cel Bătrân-Calea Domnească-Curtea Domnească<br />12:30 Ședința festivă a Consiliului Local Municipal Târgoviște – Complexul Muzeal Curtea Domnească – Ruine<br /><br />Parcul Chindiei (Zona Ruine)<br />10:00 – 22:00 – Târgul meșterilor populari<br />20:30 – 22:00 – Concert extraordinar susținut de HORIA BRENCIU & HB ORCHESTRA<br /><br />Teatrul Municipal Tony Bulandra<br />17:00 – Concert ,,In memoriam Eduard Caudella”, eveniment conex desfășurat sub egida Festivalului Internațional ,,George Enescu”, 2023, susținut de Orchestra Simfonica de Tineret ,,Andante”, Dirijor: Tiberiu Dragoş Oprea, Solist vioara: Yasmina Elena Militaru, Solist violoncel: Octavian Lup (laureat al Concursului International ,,George Enescu”), Solist pian: Sarah-Alexandra Nidelcu, concert in cadrul Zilelor Cetății 2023, realizat în parteneriat cu Asociația SonoArt şi ARTEXIM – organizatorul Festivalului International ,,George Enescu”<br /><br />Cinema Independența<br />11:00 – Film pentru copii – Clifford: marele câine roșu (intrarea gratuită pentru copii)<br /><br />Grădina Zoologică<br />10:00 -14:00 – Tur organizat al copiilor în incinta grădinii zoologice, hrănirea animalelor domestice, jocuri distractive, desene cu creta pe asfalt, înmânare diplome de participare<br /><br />Clubul Pensionarilor<br />11:00 – 13:00 – Concurs de table – Concurenții: beneficiarii clubului<br /><br />Muzeul Casa Romanței<br />18:00 – Concert ”Tinerețea Romanței” – realizat de artista Alina Mavrodin Vasiliu<br /><br />Complexul Turistic de Natație<br />18:00- 19:30 – Campionatul de fotbal între cartiere- ,,Cupa Cartierelor Târgoviște’’<br /><br />Baza de tenis V.I.Palas și Baza sportivă Vascony<br />09:00-22:00- Turneu de tenis ,,Cupa Zilele Cetății”<br /><br />09 septembrie<br />Scuarul Primăriei<br />10:00 – 21:00 – Salonul Editorial „Ion Heliade Rădulescu”- organizat de Biblioteca Județeană Dâmbovița – moment festiv<br />11:00 – 18:00 – Târg de anticariat, expoziție de fotografie, Stand Expozițional de promovare a obiectivelor turistice din Municipiul Târgoviște, Stand Expozițional al echipelor de robotică Phantom și UnderConstruction, de la Colegiul Național ,,Constantin Carabella” din Târgoviște<br /><br />Centrul Vechi (Școala Populară de Arte)<br />11:00 – 18:00 – Expoziție cu proiecte de arhitectură din cadrul Anualei OM 2021 – realizată de Ordinul Arhitecților din România, filiala Muntenia Vest<br /><br />Parcul Chindiei (Zona Ruine)<br />10:00 – 22:00 – Târgul meșterilor populari<br />10:00 – 13:00 – Evenimente artistice pentru cei mici: Spectacol de teatru – ”Garoafele lui Trandafir”, concert afro cu trupa FOLI Jr., spectacol de dans al minorităților din municipiu, clovni și păpuși gigant<br />19:30 –22:30 – Concert rock susținut de formațiile TROOPER și LOVEBITE<br /><br />Stadionul Eugen Popescu<br />18:00 – 18:30 – Spectacol de percuție susținut de trupa Barbarossa<br />18:30 – 19:15 – Show aviatic susținut de Aeroclubul României<br /><br />Cinema Independența<br />11:00 – Premierea cuplurilor care împlinesc 50 de ani de căsătorie<br />15:00 – Film pentru copii – Regele Leu (intrarea gratuită pentru copii)<br /><br />Grădina Zoologică<br />11:00 -12:00 – Tur organizat al copiilor în incinta grădinii zoologice, hrănirea animalelor domestice, jocuri distractive, desene cu creta pe asfalt, înmânare diplome de participare<br /><br />Clubul Pensionarilor<br />11:00 – 13:00 – Concurs de rummy – Concurenții: beneficiarii clubului<br /><br />Complexul Turistic de Natație<br />18:00- 19:30 – Campionatul de fotbal între cartiere – ,,Cupa Cartierelor Târgoviște’’<br /><br />Baza de tenis V.I.Palas și Baza sportivă Vascony<br />09:00-22:00- Turneu de tenis ,,Cupa Zilele Cetății”<br /><br />10 septembrie<br />Scuarul Primăriei<br />10:00 – 21:00 –Salonul Editorial „Ion Heliade Rădulescu”- organizat de Biblioteca Județeană Dâmbovița<br />11:00 – 18:00 – Târg de anticariat, expoziție de fotografie, Stand Expozițional de promovare a obiectivelor turistice din Municipiul Târgoviște, Stand Expozițional al echipelor de robotică Phantom și UnderConstruction, de la Colegiul Național ,,Constantin Carabella” din Târgoviște<br /><br />Centrul Vechi (Școala Populară de Arte)<br />11:00 – 18:00 – Expoziție cu proiecte de arhitectură din cadrul Anualei OM 2021 – realizată de Ordinul Arhitecților din România, filiala Muntenia Vest<br /><br />Parcul Chindiei (Zona Ruine)<br />10:00 – 22:00 – Târgul meșterilor populari<br />10:00 – 13:00 – Evenimente artistice pentru cei mici: Spectacol de dans – susținut de Școala de dans Daniela Rotary, Școala de dans Dana Gym, spectacol de teatru ”Cei trei purceluși”- susținut de ateliere pictură pe față, clovni și păpuși gigant<br />19:30 – 22:30 – Concert extraordinar susținut de artiștii LOREDANA, NICOLE CHERRY, DORIAN POPA<br />22:30 – Show lasere și foc de artificii<br /><br />Cinema Independența<br />11:00 – Film pentru copii – Clifford: marele câine roșu (intrarea gratuită pentru copii)<br /><br />Grădina Zoologică<br />10:00 -14:00 – Tur organizat în incinta grădinii zoologice, hrănirea animalelor domestice, jocuri distractive, desene cu creta pe asfalt, înmânare diplome de participare<br /><br />Clubul Pensionarilor<br />11:00 – 13:00 – Concurs de gastronomie – Concurenții: beneficiarii clubului<br /><br />Complexul Turistic de Natație<br />18:00 – Campionatul de fotbal între cartiere- ,,Cupa Cartierelor Târgoviște’’ – finale<br /><br />Baza de tenis V.I.Palas și Baza sportivă Vascony<br />09:00-22:00- Turneu de tenis ,,Cupa Zilele Cetății”<br />\n\n</BODY>\n</HTML>

LOCATION:Târgoviște, Dâmbovița, România
END:VEVENT

END:VCALENDAR
