BEGIN:VCALENDAR
VERSION:2.0
PRODID:-//hacksw/handcal//NONSGML v1.0//EN
BEGIN:VEVENT
UID:2679759a4564c90fe8759ec4ea73aa96
DTSTAMP:20260425T224926Z

DTSTART:20250611T180000
DTEND:20250611T180000
SUMMARY:Hamlet Liber - Sala Mare
DESCRIPTION:după William Shakespeare\nRegia: Mc Ranin\nTeatrul „Tony Bulandra” Târgoviște, România\n\n„Hamlet Liber”, în regia vizionară a lui Mc Ranin, care semnează deopotrivă și scenografia spectacolului, nu este o simplă remontare a celei mai cunoscute piese din lume, este o invitație incomodă, hiperintimă la cele mai copleșitoare trăiri, la cele mai spuse și, mai ales nespuse intimități articulate: îndoiala, răzbunarea, complotul, puterea, inocența, forța, iubirea, onoarea, dreptatea… speranța – toate atât de vechi, umane și volatile, aici aduse la algoritm, precizie și tehnologie… pentru inițiați. Culturi diferite, principii contrare, generații conflictuale, limbi nu doar în dialect variat, ci în alfabet non-alfabetic – astfel se conjugă universul lui Hamlet liber.

X-ALT-DESC;FMTTYPE=text/html:<!DOCTYPE HTML PUBLIC "-//W3C//DTD HTML 3.2//EN">\n<HTML>\n<HEAD>\n<META NAME="Generator" CONTENT="MS Exchange Server version 08.00.0681.000">\n<TITLE></TITLE>\n</HEAD>\n<BODY>\n<!-- Converted from text/rtf format -->\n\ndupă William Shakespeare<br />Regia: Mc Ranin<br />Teatrul „Tony Bulandra” Târgoviște, România<br /><br />„Hamlet Liber”, în regia vizionară a lui Mc Ranin, care semnează deopotrivă și scenografia spectacolului, nu este o simplă remontare a celei mai cunoscute piese din lume, este o invitație incomodă, hiperintimă la cele mai copleșitoare trăiri, la cele mai spuse și, mai ales nespuse intimități articulate: îndoiala, răzbunarea, complotul, puterea, inocența, forța, iubirea, onoarea, dreptatea… speranța – toate atât de vechi, umane și volatile, aici aduse la algoritm, precizie și tehnologie… pentru inițiați. Culturi diferite, principii contrare, generații conflictuale, limbi nu doar în dialect variat, ci în alfabet non-alfabetic – astfel se conjugă universul lui Hamlet liber.\n\n</BODY>\n</HTML>

LOCATION:Teatrul Toni Bulandra, Aleea Trandafirilor, Cartier CFR, Târgoviște, Dâmbovița, 130051, România
END:VEVENT

END:VCALENDAR
