BEGIN:VCALENDAR
VERSION:2.0
PRODID:-//hacksw/handcal//NONSGML v1.0//EN
BEGIN:VEVENT
UID:3f848e90ea06352467556cb3870ca6d7
DTSTAMP:20260426T000115Z

DTSTART:20190615T230000
DTEND:20190616T040000
SUMMARY:Viva Cuba Libre! @Belvedere Studio
DESCRIPTION:Continuăm seria nopților de vară sâmbătă 15 iunie 2019, cu o super petrecere marca Belvedere Studio.\n\nAducem vibe-ul de pe plaja cubaneză direct în Studio!\nOfertele Havana Club 3 Anos & Havana Club 7 Anos vor avea pret promotional!\n\nVă invităm să rezervați mese la numărul de telefon (0729) 638 221.\nAccesul este permis începand cu orele 23:00, iar mesele sunt rezervate până la ora 00:30.\nFetele au intrare libera!\n\nVă așteptăm!

X-ALT-DESC;FMTTYPE=text/html:<!DOCTYPE HTML PUBLIC "-//W3C//DTD HTML 3.2//EN">\n<HTML>\n<HEAD>\n<META NAME="Generator" CONTENT="MS Exchange Server version 08.00.0681.000">\n<TITLE></TITLE>\n</HEAD>\n<BODY>\n<!-- Converted from text/rtf format -->\n\nContinuăm seria nopților de vară sâmbătă 15 iunie 2019, cu o super petrecere marca Belvedere Studio.<br /><br />Aducem vibe-ul de pe plaja cubaneză direct în Studio!<br />Ofertele Havana Club 3 Anos & Havana Club 7 Anos vor avea pret promotional!<br /><br />Vă invităm să rezervați mese la numărul de telefon (0729) 638 221.<br />Accesul este permis începand cu orele 23:00, iar mesele sunt rezervate până la ora 00:30.<br />Fetele au intrare libera!<br /><br />Vă așteptăm!\n\n</BODY>\n</HTML>

LOCATION:Strada Alexandru Ioan Cuza 22, Târgoviște, România
END:VEVENT

END:VCALENDAR
