BEGIN:VCALENDAR
VERSION:2.0
PRODID:-//hacksw/handcal//NONSGML v1.0//EN
BEGIN:VEVENT
UID:d9c7cc7feefc418c931e05dfc047cd4a
DTSTAMP:20260426T000126Z

DTSTART:20191017T120000
DTEND:20191019T230000
SUMMARY:Crizantama de aur ed. 52-a 2019
DESCRIPTION:Vă facem cunoscut că, în perioada 17-19 octombrie 2019, se va desfăşura în municipiul\nTârgovişte, sub patronajul Comisiei Naţionale a României pentru UNESCO, cea de-a 52-a\nediţie a Festivalului Naţional de Interpretare şi Creaţie a Romanţei „Crizantema de aur”.\nEvenimentul este dedicat celebrării prin Romanţă a Patrimoniului poetic naţional şi Anului\nomagial al satului românesc. Organizatorii sunt preocupați de promovarea Romanţei, ca gen muzical\nde patrimoniu al culturii naţionale, în vederea înscrierii acesteia în Lista Reprezentativă UNESCO a\nPatrimoniului Cultural Imaterial al Umanităţii, procedură care se desfăşoară în prezent la Ministerul\nCulturii şi Identităţii Naţionale.\nOrganizatorii acestei ediţii sunt: Primăria şi Consiliul Local Municipal Târgovişte, Consiliul\nJudeţean Dâmboviţa, Centrul Judeţean de Cultură Dâmboviţa, Teatrul „Tony Bulandra” din\nTârgovişte, în colaborare cu Ministerul Culturii şi Identităţii Naţionale, cu Uniunea Compozitorilor\nşi Muzicologilor din România, cu Uniunea Muzicienilor din Moldova, în co-producţie cu\nTeleviziunea Română şi în parteneriat cu Radio România.\nEvenimentul se desfăşoară la Teatrul „Tony Bulandra” din Târgovişte.\nConcertele vor începe în fiecare seară la ora 18.00 și vor fi transmise integral în direct de TVR\n3 și TVR Craiova, precum și în redifuzare pe TVR Internațional și TVR Moldova.\nNOUTĂŢILE EDIŢIEI A 52-A ȘI EVENIMENTE ASOCIATE FESTIVALULUI\n Programul Naţional de Concerte „Comori ale Romanţei” - sub patronajul CNR\nUNESCO, eveniment asociat Festivalului Naţional „Crizantema de aur” 2019. Concertele se desfăşoară\nîn zone istorice din România şi Republica Moldova, în perioada 19 octombrie - 15 decembrie 2019, la\nTârgovişte, Cluj, Chişinău, Iaşi, Craiova, Constanţa şi Bucureşti. Programul este destinat promovării\nRomanţei - gen muzical de patrimoniu al culturii naţionale - şi se desfăşoară cu participarea\nlaureaţilor Festivalului „Crizantema de aur”, alături de alţi mari interpreţi de romanţe din România şi\ndin Republica Moldova.\n\nSINTEZA PROGRAMULUI FESTIVALULUI „CRIZANTEMA DE AUR”\n\n- 17-19 octombrie 2019 –\n\nFestivalul Naţional de Romanţe „Crizantema de Aur”, ediţia a 52-a, va fi transmis\nintegral în direct pe postul TVR 3 și TVR Craiova în perioada 17-19 octombrie 2019, în fiecare\nseară, începând cu ora 18.00. Festivalul va fi redifuzat pe TVR Internaţional şi TVR Moldova, conform\nprogramărilor TVR. Posturile TVR 2 şi TVR 3, precum şi posturile regionale ale TVR, vor\ndifuza emisiuni speciale cu selecţiuni din programul festivalului. Postul Radio România Antena\nSatelor va transmite în direct sâmbătă, 19 octombrie, începând cu ora 18.00, Gala Laureaţilor\nConcursului de Interpretare şi Creaţie, precum şi concertele extraordinare din programul festivalului;\nEdiţia a 52-a a Festivalului „Crizantema de Aur” va fi structurată pe patru mari\nsecţiuni, astfel:\n\na) Concursul de Interpretare;\nb) Concursul de Creaţie;\nc) Concertul extraordinar „Comori ale Romanţei”, recitaluri,\nmicrorecitaluri şi medalioane tematice;\nd) Evenimente asociate festivalului.\nConcursul de Interpretare: participă 20 de concurenţi selecţionaţi în urma a 7\npreselecţii regionale, realizate în perioada mai-iunie 2019, în România şi în Republica Moldova;\nRegulamentul oficial al festivalului prevede și în acest an ca toţi concurenţii de la\nsecţiunea Interpretare să includă în repertoriul de concurs şi o romanţă dintre cele lansate şi premiate\nla concursurile de Creaţie ale Festivalului Naţional „Crizantema de Aur” de-a lungul anilor, pentru\ncreşterea calităţii artistice a Concursului de Interpretare şi pentru promovarea noilor creaţii de\nromanţe;\nConcursul de Creaţie va îmbogăţi patrimoniul muzical naţional cu 14 romanţe în\nprimă audiţie, selectate în urma preselecţiilor naţionale realizate la Bucureşti în colaborare cu UCMR\nşi la Chişinău în colaborare cu UMM;\nJoi, 17 octombrie şi Vineri, 18 octombrie 2019, se vor desfăşura Concursurile de\nInterpretare şi de Creaţie, urmate de:\n1. Micro-recitaluri susţinute de laureaţi ai Festivalului Național „Crizantema de aur”:\nsusținute de tineri laureați ai Festivalului „Crizantema de aur” din România și Republica\nMoldova: Nicoleta Vasile; Alina Ureche; Daiana Berbec; Andrei Cocârlea; Theodora\nManolache; Doru Pantazi; Vasilica Tătaru; Mădălin Băldău.\n2. Recitaluri şi medalioane tematice, dedicate celebrării patrimoniului romanței și creației\nmarilor compozitori români de romanță: Alexandru Arșinel; Domnica Sorescu; Marius\nMitrofan; Constantin Florescu; Bogdan Hrestic; Aurel Niamțu; Ioana Purcăruș\n(Dumitrescu).\nSâmbătă, 19 octombrie 2019, vor avea loc:\na) Gala Laureaţilor Concursului de Interpretare și Concursului de Creație;\nb) Recital Alina Mavrodin Vasiliu: „Romanţe de aur” lansate la concursurile de Creație ale\nfestivalului.\nc) Concertul extraordinar „Comori ale Romanţei”, cu participarea unor mari interpreţi de\nromanţe din România şi Republica Moldova: Matilda Pascal-Cojocăriţa, Florin\nGeorgescu, Daniela Vlădescu, Sergiu Cioiu, Paula Seling şi Grupul „Brio\nSonores” Chişinău.\nÎn concert: „Poeme printre romanţe” cu actorul Silviu Biriş şi harpista Cristina\nMunteanu.\nAcompaniază orchestrele „Dor românesc” - dirijor Ștefan Cigu şi\n„Romanţa” - dirijor Lucian Vlădescu;\nJuriul Concursului de Interpretare va fi format din mari interpreţi de romanţă şi\ndin personalităţi ale vieţii muzicale din România şi Republica Moldova.\nJuriul Concursului de Creaţie va fi format din renumiţi compozitori români din\nRomânia şi Republica Moldova, desemnaţi de UCMR şi UMM.\n Prezentatori: Alexandra Velniciuc şi Octavian Ursulescu;\n\nMiruna Ionescu şi Silviu Biriş.\n\nCo-producător: TVR.\nParteneri media: Radio România; Revista „Actualitatea Muzicală” a UCMR.\nScenografia: Alin Gavrilă.\nProducător TVR al evenimentului: Maria Tănase Marin.\nDirecţia artistică: Alina Mavrodin Vasiliu, directorul Centrului Cultural pentru UNESCO „Cetatea\nRomanţei” Târgovişte.\nSponsorii ediţiei a 52-a a Festivalului Naţional de Romanţe „Crizantema de Aur”:\n- Sponsor oficial: COTNARI;\n- Sponsori: Fundaţia „Henry Mălineanu”; Eurogas Prescom SRL ; Adelle Style.

X-ALT-DESC;FMTTYPE=text/html:<!DOCTYPE HTML PUBLIC "-//W3C//DTD HTML 3.2//EN">\n<HTML>\n<HEAD>\n<META NAME="Generator" CONTENT="MS Exchange Server version 08.00.0681.000">\n<TITLE></TITLE>\n</HEAD>\n<BODY>\n<!-- Converted from text/rtf format -->\n\nVă facem cunoscut că, în perioada 17-19 octombrie 2019, se va desfăşura în municipiul<br />Târgovişte, sub patronajul Comisiei Naţionale a României pentru UNESCO, cea de-a 52-a<br />ediţie a Festivalului Naţional de Interpretare şi Creaţie a Romanţei „Crizantema de aur”.<br />Evenimentul este dedicat celebrării prin Romanţă a Patrimoniului poetic naţional şi Anului<br />omagial al satului românesc. Organizatorii sunt preocupați de promovarea Romanţei, ca gen muzical<br />de patrimoniu al culturii naţionale, în vederea înscrierii acesteia în Lista Reprezentativă UNESCO a<br />Patrimoniului Cultural Imaterial al Umanităţii, procedură care se desfăşoară în prezent la Ministerul<br />Culturii şi Identităţii Naţionale.<br />Organizatorii acestei ediţii sunt: Primăria şi Consiliul Local Municipal Târgovişte, Consiliul<br />Judeţean Dâmboviţa, Centrul Judeţean de Cultură Dâmboviţa, Teatrul „Tony Bulandra” din<br />Târgovişte, în colaborare cu Ministerul Culturii şi Identităţii Naţionale, cu Uniunea Compozitorilor<br />şi Muzicologilor din România, cu Uniunea Muzicienilor din Moldova, în co-producţie cu<br />Televiziunea Română şi în parteneriat cu Radio România.<br />Evenimentul se desfăşoară la Teatrul „Tony Bulandra” din Târgovişte.<br />Concertele vor începe în fiecare seară la ora 18.00 și vor fi transmise integral în direct de TVR<br />3 și TVR Craiova, precum și în redifuzare pe TVR Internațional și TVR Moldova.<br />NOUTĂŢILE EDIŢIEI A 52-A ȘI EVENIMENTE ASOCIATE FESTIVALULUI<br /> Programul Naţional de Concerte „Comori ale Romanţei” - sub patronajul CNR<br />UNESCO, eveniment asociat Festivalului Naţional „Crizantema de aur” 2019. Concertele se desfăşoară<br />în zone istorice din România şi Republica Moldova, în perioada 19 octombrie - 15 decembrie 2019, la<br />Târgovişte, Cluj, Chişinău, Iaşi, Craiova, Constanţa şi Bucureşti. Programul este destinat promovării<br />Romanţei - gen muzical de patrimoniu al culturii naţionale - şi se desfăşoară cu participarea<br />laureaţilor Festivalului „Crizantema de aur”, alături de alţi mari interpreţi de romanţe din România şi<br />din Republica Moldova.<br /><br />SINTEZA PROGRAMULUI FESTIVALULUI „CRIZANTEMA DE AUR”<br /><br />- 17-19 octombrie 2019 –<br /><br />Festivalul Naţional de Romanţe „Crizantema de Aur”, ediţia a 52-a, va fi transmis<br />integral în direct pe postul TVR 3 și TVR Craiova în perioada 17-19 octombrie 2019, în fiecare<br />seară, începând cu ora 18.00. Festivalul va fi redifuzat pe TVR Internaţional şi TVR Moldova, conform<br />programărilor TVR. Posturile TVR 2 şi TVR 3, precum şi posturile regionale ale TVR, vor<br />difuza emisiuni speciale cu selecţiuni din programul festivalului. Postul Radio România Antena<br />Satelor va transmite în direct sâmbătă, 19 octombrie, începând cu ora 18.00, Gala Laureaţilor<br />Concursului de Interpretare şi Creaţie, precum şi concertele extraordinare din programul festivalului;<br />Ediţia a 52-a a Festivalului „Crizantema de Aur” va fi structurată pe patru mari<br />secţiuni, astfel:<br /><br />a) Concursul de Interpretare;<br />b) Concursul de Creaţie;<br />c) Concertul extraordinar „Comori ale Romanţei”, recitaluri,<br />microrecitaluri şi medalioane tematice;<br />d) Evenimente asociate festivalului.<br />Concursul de Interpretare: participă 20 de concurenţi selecţionaţi în urma a 7<br />preselecţii regionale, realizate în perioada mai-iunie 2019, în România şi în Republica Moldova;<br />Regulamentul oficial al festivalului prevede și în acest an ca toţi concurenţii de la<br />secţiunea Interpretare să includă în repertoriul de concurs şi o romanţă dintre cele lansate şi premiate<br />la concursurile de Creaţie ale Festivalului Naţional „Crizantema de Aur” de-a lungul anilor, pentru<br />creşterea calităţii artistice a Concursului de Interpretare şi pentru promovarea noilor creaţii de<br />romanţe;<br />Concursul de Creaţie va îmbogăţi patrimoniul muzical naţional cu 14 romanţe în<br />primă audiţie, selectate în urma preselecţiilor naţionale realizate la Bucureşti în colaborare cu UCMR<br />şi la Chişinău în colaborare cu UMM;<br />Joi, 17 octombrie şi Vineri, 18 octombrie 2019, se vor desfăşura Concursurile de<br />Interpretare şi de Creaţie, urmate de:<br />1. Micro-recitaluri susţinute de laureaţi ai Festivalului Național „Crizantema de aur”:<br />susținute de tineri laureați ai Festivalului „Crizantema de aur” din România și Republica<br />Moldova: Nicoleta Vasile; Alina Ureche; Daiana Berbec; Andrei Cocârlea; Theodora<br />Manolache; Doru Pantazi; Vasilica Tătaru; Mădălin Băldău.<br />2. Recitaluri şi medalioane tematice, dedicate celebrării patrimoniului romanței și creației<br />marilor compozitori români de romanță: Alexandru Arșinel; Domnica Sorescu; Marius<br />Mitrofan; Constantin Florescu; Bogdan Hrestic; Aurel Niamțu; Ioana Purcăruș<br />(Dumitrescu).<br />Sâmbătă, 19 octombrie 2019, vor avea loc:<br />a) Gala Laureaţilor Concursului de Interpretare și Concursului de Creație;<br />b) Recital Alina Mavrodin Vasiliu: „Romanţe de aur” lansate la concursurile de Creație ale<br />festivalului.<br />c) Concertul extraordinar „Comori ale Romanţei”, cu participarea unor mari interpreţi de<br />romanţe din România şi Republica Moldova: Matilda Pascal-Cojocăriţa, Florin<br />Georgescu, Daniela Vlădescu, Sergiu Cioiu, Paula Seling şi Grupul „Brio<br />Sonores” Chişinău.<br />În concert: „Poeme printre romanţe” cu actorul Silviu Biriş şi harpista Cristina<br />Munteanu.<br />Acompaniază orchestrele „Dor românesc” - dirijor Ștefan Cigu şi<br />„Romanţa” - dirijor Lucian Vlădescu;<br />Juriul Concursului de Interpretare va fi format din mari interpreţi de romanţă şi<br />din personalităţi ale vieţii muzicale din România şi Republica Moldova.<br />Juriul Concursului de Creaţie va fi format din renumiţi compozitori români din<br />România şi Republica Moldova, desemnaţi de UCMR şi UMM.<br /> Prezentatori: Alexandra Velniciuc şi Octavian Ursulescu;<br /><br />Miruna Ionescu şi Silviu Biriş.<br /><br />Co-producător: TVR.<br />Parteneri media: Radio România; Revista „Actualitatea Muzicală” a UCMR.<br />Scenografia: Alin Gavrilă.<br />Producător TVR al evenimentului: Maria Tănase Marin.<br />Direcţia artistică: Alina Mavrodin Vasiliu, directorul Centrului Cultural pentru UNESCO „Cetatea<br />Romanţei” Târgovişte.<br />Sponsorii ediţiei a 52-a a Festivalului Naţional de Romanţe „Crizantema de Aur”:<br />- Sponsor oficial: COTNARI;<br />- Sponsori: Fundaţia „Henry Mălineanu”; Eurogas Prescom SRL ; Adelle Style.\n\n</BODY>\n</HTML>

LOCATION:Bulevardul Regele Carol I nr. 43, Târgoviște, România
END:VEVENT

END:VCALENDAR
