BEGIN:VCALENDAR
VERSION:2.0
PRODID:-//hacksw/handcal//NONSGML v1.0//EN
BEGIN:VEVENT
UID:aed59e918ad10e0d2995991477e1925b
DTSTAMP:20260426T000152Z

DTSTART:20200820T100000
DTEND:20200820T220000
SUMMARY:Deschidere Dâmbovița Mall
DESCRIPTION:Fii acolo unde #domneșteBucuria!\nVizitează Dâmbovița Mall, cel mai nou centru comercial din regiune dedicat pasiunilor tale, și bucură-te de un caleidoscop de experiențe!\nProfită de ofertele speciale de deschidere ale brandurilor tale preferate și descoperă pas cu pas tot ce are să-ți ofere Dâmbovița Mall!\nBrandurile tale preferate prezente în Dâmbovița Mall la momentul deschiderii sunt:\nC&A, LC Waikiki, Sinsay, House, Cropp, Salamander, Triumph, Deichmann, Mgold, Ocassia, Zeka Fashion, Cupio, Intersport, Hervis, Sportisimo, Sizeer, Mumuso, DM, Noriel, New Yorker, CCC, Pepco, Altex, Flanco, Carrefour, Kosa Beauty, Boutique17, Meli Melo, U.S.Polo ASSN, Little Big, Smyk, Teilor, Kendra, Splend`or, Happy Day, Bunătăți Ardelenești, Banca Transilvania, Helpnet, Sensiblu, Cador, Simigeria Mihai, Cover Shop, Xpress, Arsis, Animax, Raimar Print, Optiblu, Tui Travel, MoneyGram, Silca, Total Wash, Million, Dini Land, SPCRPCIV Dambovita.\nZona de food găzduiește restaurantele KFC, Spartan, Mesopotamia, Miss Twist dar și două cafenele: Juba Caffe și Cafeneaua Dots.\nAici #domneșteBucuria!\nAici #domneșteDistracția!\nAici #domneșteFericirea!\nProfită de un regal al ofertelor speciale!\nVezi mai puţin

X-ALT-DESC;FMTTYPE=text/html:<!DOCTYPE HTML PUBLIC "-//W3C//DTD HTML 3.2//EN">\n<HTML>\n<HEAD>\n<META NAME="Generator" CONTENT="MS Exchange Server version 08.00.0681.000">\n<TITLE></TITLE>\n</HEAD>\n<BODY>\n<!-- Converted from text/rtf format -->\n\nFii acolo unde #domneșteBucuria!<br />Vizitează Dâmbovița Mall, cel mai nou centru comercial din regiune dedicat pasiunilor tale, și bucură-te de un caleidoscop de experiențe!<br />Profită de ofertele speciale de deschidere ale brandurilor tale preferate și descoperă pas cu pas tot ce are să-ți ofere Dâmbovița Mall!<br />Brandurile tale preferate prezente în Dâmbovița Mall la momentul deschiderii sunt:<br />C&A, LC Waikiki, Sinsay, House, Cropp, Salamander, Triumph, Deichmann, Mgold, Ocassia, Zeka Fashion, Cupio, Intersport, Hervis, Sportisimo, Sizeer, Mumuso, DM, Noriel, New Yorker, CCC, Pepco, Altex, Flanco, Carrefour, Kosa Beauty, Boutique17, Meli Melo, U.S.Polo ASSN, Little Big, Smyk, Teilor, Kendra, Splend`or, Happy Day, Bunătăți Ardelenești, Banca Transilvania, Helpnet, Sensiblu, Cador, Simigeria Mihai, Cover Shop, Xpress, Arsis, Animax, Raimar Print, Optiblu, Tui Travel, MoneyGram, Silca, Total Wash, Million, Dini Land, SPCRPCIV Dambovita.<br />Zona de food găzduiește restaurantele KFC, Spartan, Mesopotamia, Miss Twist dar și două cafenele: Juba Caffe și Cafeneaua Dots.<br />Aici #domneșteBucuria!<br />Aici #domneșteDistracția!<br />Aici #domneșteFericirea!<br />Profită de un regal al ofertelor speciale!<br />Vezi mai puţin\n\n</BODY>\n</HTML>

LOCATION:Strada Petru Cercel, Târgoviște, Dâmbovița, 130145, România
END:VEVENT

END:VCALENDAR
