BEGIN:VCALENDAR
VERSION:2.0
PRODID:-//hacksw/handcal//NONSGML v1.0//EN
BEGIN:VEVENT
UID:9101afa2fd22ab6d2ef842c79908df1c
DTSTAMP:20260425T120347Z

DTSTART:20201201T100000
DTEND:20210131T180000
SUMMARY:Efigii Istorice - Expozitie Valentin Tanase
DESCRIPTION:Cu acest prilej sunteți invitați să descoperiți personalitățile artei românești contemporane și momente importante din istoria poporului român.\n\nExpoziția, organizată de Complexul Național Muzeal „Curtea Domnească” Târgoviște în parteneriat cu Studioul de Arte Plastice al Armatei din cadrul Cercului Militar Național, poate fi vizitată în perioada decembrie 2020 – ianuarie 2021, de marți – duminică, între orele 8 – 16.\n\nExpoziția EFIGII ISTORICE realizată de artistul Valentin TĂNASE și deschisă la Muzeul de Artă din Târgoviște cu ocazia Zilei Naționale de 1 Decembrie și-a propus ca prin intermediul artei să onoreze memoria înaintașilor care au luptat pentru independența și unitatea neamului românesc. Fie că este vorba de pictură, grafică ori sculptură tematica istorică, inspirată de evenimente importante din istoria națională, a tuturor românilor, este profund resimțită în compozițiile ori portretele prezentate.

X-ALT-DESC;FMTTYPE=text/html:<!DOCTYPE HTML PUBLIC "-//W3C//DTD HTML 3.2//EN">\n<HTML>\n<HEAD>\n<META NAME="Generator" CONTENT="MS Exchange Server version 08.00.0681.000">\n<TITLE></TITLE>\n</HEAD>\n<BODY>\n<!-- Converted from text/rtf format -->\n\nCu acest prilej sunteți invitați să descoperiți personalitățile artei românești contemporane și momente importante din istoria poporului român.<br /><br />Expoziția, organizată de Complexul Național Muzeal „Curtea Domnească” Târgoviște în parteneriat cu Studioul de Arte Plastice al Armatei din cadrul Cercului Militar Național, poate fi vizitată în perioada decembrie 2020 – ianuarie 2021, de marți – duminică, între orele 8 – 16.<br /><br />Expoziția EFIGII ISTORICE realizată de artistul Valentin TĂNASE și deschisă la Muzeul de Artă din Târgoviște cu ocazia Zilei Naționale de 1 Decembrie și-a propus ca prin intermediul artei să onoreze memoria înaintașilor care au luptat pentru independența și unitatea neamului românesc. Fie că este vorba de pictură, grafică ori sculptură tematica istorică, inspirată de evenimente importante din istoria națională, a tuturor românilor, este profund resimțită în compozițiile ori portretele prezentate.\n\n</BODY>\n</HTML>

LOCATION:Muzeul de Artă, 185, Calea Domnească, Târgoviște, Dâmbovița, 130008, România
END:VEVENT

END:VCALENDAR
