BEGIN:VCALENDAR
VERSION:2.0
PRODID:-//hacksw/handcal//NONSGML v1.0//EN
BEGIN:VEVENT
UID:d0c83763268661d8ee94ac53c7f34e13
DTSTAMP:20260426T000309Z

DTSTART:20221105T000000
DTEND:20221106T235959
SUMMARY:Meci de volei CSM Târgoviște- CS Știința Bacău
DESCRIPTION:Sâmbătă, 5 Noiembrie, începând cu ora 16:00, voleibalistele Clubului Sportiv Municipal vor disputa primul meci din acest Campionat, acasă, împotriva echipei CS Știința Bacău.

X-ALT-DESC;FMTTYPE=text/html:<!DOCTYPE HTML PUBLIC "-//W3C//DTD HTML 3.2//EN">\n<HTML>\n<HEAD>\n<META NAME="Generator" CONTENT="MS Exchange Server version 08.00.0681.000">\n<TITLE></TITLE>\n</HEAD>\n<BODY>\n<!-- Converted from text/rtf format -->\n\nSâmbătă, 5 Noiembrie, începând cu ora 16:00, voleibalistele Clubului Sportiv Municipal vor disputa primul meci din acest Campionat, acasă, împotriva echipei CS Știința Bacău.\n\n</BODY>\n</HTML>

LOCATION:Sala Polivalentă Târgoviște, 3, Bulevardul Unirii, Târgoviște, Dâmbovița, 130114, România
END:VEVENT

END:VCALENDAR
