BEGIN:VCALENDAR
VERSION:2.0
PRODID:-//hacksw/handcal//NONSGML v1.0//EN
BEGIN:VEVENT
UID:91a209f66939c096ac9d4c8960fb342d
DTSTAMP:20260426T012039Z

DTSTART:20191124T120000
DTEND:20191129T120000
SUMMARY:1st Black Week Theater Event ever @Tony Bulandra
DESCRIPTION:Pentru prima oară în România, un teatru de stat organizează o întreagă săptămână de evenimente Black Friday. Astfel, începând cu duminică 24 și până vineri 29 noiembrie, inclusiv, îți vom oferi reduceri explozive la prețul biletelor pentru spectacolele: Carmen (24 nov); Patima Roșie - Black Week (27 nov); Take, Ianke şi Cadîr - Black Week (28 nov); Livada de vișini - Black Week (29 nov). ?\n\n?Tot ce ai de făcut, este sa vii până cel târziu vineri, 29 noiembrie, ora 19:00, cu codul: #BLKFRI, exclusiv la agenţia de bilete a Teatrului Tony Bulandra, începând cu astăzi, 19.11.2019 și beneficiezi pe loc de o reducere explozivă la prețul biletului de intrare pentru spectacolele organizate de Black Week?

X-ALT-DESC;FMTTYPE=text/html:<!DOCTYPE HTML PUBLIC "-//W3C//DTD HTML 3.2//EN">\n<HTML>\n<HEAD>\n<META NAME="Generator" CONTENT="MS Exchange Server version 08.00.0681.000">\n<TITLE></TITLE>\n</HEAD>\n<BODY>\n<!-- Converted from text/rtf format -->\n\nPentru prima oară în România, un teatru de stat organizează o întreagă săptămână de evenimente Black Friday. Astfel, începând cu duminică 24 și până vineri 29 noiembrie, inclusiv, îți vom oferi reduceri explozive la prețul biletelor pentru spectacolele: Carmen (24 nov); Patima Roșie - Black Week (27 nov); Take, Ianke şi Cadîr - Black Week (28 nov); Livada de vișini - Black Week (29 nov). ?<br /><br />?Tot ce ai de făcut, este sa vii până cel târziu vineri, 29 noiembrie, ora 19:00, cu codul: #BLKFRI, exclusiv la agenţia de bilete a Teatrului Tony Bulandra, începând cu astăzi, 19.11.2019 și beneficiezi pe loc de o reducere explozivă la prețul biletului de intrare pentru spectacolele organizate de Black Week?\n\n</BODY>\n</HTML>

LOCATION:Bulevardul Regele Carol I nr. 43, Târgoviște, România
END:VEVENT

END:VCALENDAR
