BEGIN:VCALENDAR
VERSION:2.0
PRODID:-//hacksw/handcal//NONSGML v1.0//EN
BEGIN:VEVENT
UID:c3519687cdb9bbf0f32844895a5873ec
DTSTAMP:20260425T225623Z

DTSTART:20250130T110000
DTEND:20250130T110000
SUMMARY:Ce se aude? Balena … 
DESCRIPTION:De unde a plecat ideea spectacolului?\nPovestea de inspirație este povestea balenei ucigașe numită Tahlequah care a atras atenția lumii prin comportamentul său matern. Puiul ei a murit la doar 30 de minute după ce s-a născut. Dar, adevăratul motiv pentru care jurnaliștii, fotografii și milioane de telespectatori au urmărit povestea acestei mame, a fost dorința ei de a jeli puiul. După un an și jumătate în care a crescut o viață în burta ei, după lunga durată a travaliului și jumătate de oră de privit în ochii celuilalt, Tahlequah a continuat să-și poarte copilul mort pe vârful nasului timp de șaptesprezece zile, călătorind mai mult de o mie de mile în toată Marea Salish (mare marginală a Oceanului Pacific, în provincia canadiană British Columbia). Această balenă a atras pentru prima dată atenția în 2018. De atunci s-a aflat sub observația oamenilor de știință și… povestea s-a repetat: https://www.instagram.com/p/DEXaC7OtVrZ/?img_index=1\n \nDespre spectacol\n„Ce se aude? Balena” este un spectacol non-verbal, gândit special pentru educația timpurie, cu muzică live, plin de culoare și formă. Spectacolul aduce în fața copiilor albastrul, sunetele liniștitoare ale instrumentelor și reimaginează, din diferite materiale, viețuitoarele mării.\nMuzica live aduce un plus de magie și sensibilitate, atât de necesare copiilor în dezvoltarea emoțională. Aceștia vor putea interacționa cu lumea Balenei atât în timpul spectacolului, cât și după, sub îndrumarea artistului păpușar. Magia spectacolului se naște tocmai din participarea activă a publicului.\nSpectacolele adresate copiilor cu vârste între 0 și 5 ani sunt spectacole extrem de importante în dezvoltarea lor cât mai armonioasă. În primii ani de viață, micuții au nevoie de cât mai multă stimulare senzorială și expunere la nou. Ei înțeleg lumea și își dezvoltă abilitățile prin văz, pipăit, auz și miros, în special. Exact aceste simțuri vor fi stimulate în spectacolul „Ce se aude? Balena”.\n \nDespre interpreți\nAna Maria Cucută Sandu a absolvit în 2008 Universitatea de Artă Teatrală și Cinematografică „I.L. Caragiale” București, secția Actor Mânuitor de Păpuși și Marionete. Vasta experiență în teatrul de animație și interacțiunea cu mii de copii de toate vârstele fac ca Ana Maria Cucută Sandu să poată comunica cu sensibilitate și emoție prin fiecare spectacol creat, prin fiecare personaj interpretat. Ana și-a gândit până acum singură numeroase spectacole de animație care s-au bucurat, de fiecare dată, de aprecierea copiilor și adulților care îi însoțesc.\nRadu Câmpean a absolvit Universitatea Națională de Artă Teatrală și Cinematografică „I.L. Caragiale“ București, Facultatea de Teatru, secția Arta Actorului, promoția 2006. Din 2007, este angajat al Teatrului „Tony Bulandra” din Târgoviște. A avut numeroase colaborări cu teatre din București și în film, datorită calităților sale actoricești, precum și datorită abilităților în jonglerie și muzică, specialitatea sa fiind instrumentele de percuție și de suflat.

X-ALT-DESC;FMTTYPE=text/html:<!DOCTYPE HTML PUBLIC "-//W3C//DTD HTML 3.2//EN">\n<HTML>\n<HEAD>\n<META NAME="Generator" CONTENT="MS Exchange Server version 08.00.0681.000">\n<TITLE></TITLE>\n</HEAD>\n<BODY>\n<!-- Converted from text/rtf format -->\n\nDe unde a plecat ideea spectacolului?<br />Povestea de inspirație este povestea balenei ucigașe numită Tahlequah care a atras atenția lumii prin comportamentul său matern. Puiul ei a murit la doar 30 de minute după ce s-a născut. Dar, adevăratul motiv pentru care jurnaliștii, fotografii și milioane de telespectatori au urmărit povestea acestei mame, a fost dorința ei de a jeli puiul. După un an și jumătate în care a crescut o viață în burta ei, după lunga durată a travaliului și jumătate de oră de privit în ochii celuilalt, Tahlequah a continuat să-și poarte copilul mort pe vârful nasului timp de șaptesprezece zile, călătorind mai mult de o mie de mile în toată Marea Salish (mare marginală a Oceanului Pacific, în provincia canadiană British Columbia). Această balenă a atras pentru prima dată atenția în 2018. De atunci s-a aflat sub observația oamenilor de știință și… povestea s-a repetat: https://www.instagram.com/p/DEXaC7OtVrZ/?img_index=1<br /> <br />Despre spectacol<br />„Ce se aude? Balena” este un spectacol non-verbal, gândit special pentru educația timpurie, cu muzică live, plin de culoare și formă. Spectacolul aduce în fața copiilor albastrul, sunetele liniștitoare ale instrumentelor și reimaginează, din diferite materiale, viețuitoarele mării.<br />Muzica live aduce un plus de magie și sensibilitate, atât de necesare copiilor în dezvoltarea emoțională. Aceștia vor putea interacționa cu lumea Balenei atât în timpul spectacolului, cât și după, sub îndrumarea artistului păpușar. Magia spectacolului se naște tocmai din participarea activă a publicului.<br />Spectacolele adresate copiilor cu vârste între 0 și 5 ani sunt spectacole extrem de importante în dezvoltarea lor cât mai armonioasă. În primii ani de viață, micuții au nevoie de cât mai multă stimulare senzorială și expunere la nou. Ei înțeleg lumea și își dezvoltă abilitățile prin văz, pipăit, auz și miros, în special. Exact aceste simțuri vor fi stimulate în spectacolul „Ce se aude? Balena”.<br /> <br />Despre interpreți<br />Ana Maria Cucută Sandu a absolvit în 2008 Universitatea de Artă Teatrală și Cinematografică „I.L. Caragiale” București, secția Actor Mânuitor de Păpuși și Marionete. Vasta experiență în teatrul de animație și interacțiunea cu mii de copii de toate vârstele fac ca Ana Maria Cucută Sandu să poată comunica cu sensibilitate și emoție prin fiecare spectacol creat, prin fiecare personaj interpretat. Ana și-a gândit până acum singură numeroase spectacole de animație care s-au bucurat, de fiecare dată, de aprecierea copiilor și adulților care îi însoțesc.<br />Radu Câmpean a absolvit Universitatea Națională de Artă Teatrală și Cinematografică „I.L. Caragiale“ București, Facultatea de Teatru, secția Arta Actorului, promoția 2006. Din 2007, este angajat al Teatrului „Tony Bulandra” din Târgoviște. A avut numeroase colaborări cu teatre din București și în film, datorită calităților sale actoricești, precum și datorită abilităților în jonglerie și muzică, specialitatea sa fiind instrumentele de percuție și de suflat.\n\n</BODY>\n</HTML>

LOCATION:
END:VEVENT

END:VCALENDAR
