BEGIN:VCALENDAR
VERSION:2.0
PRODID:-//hacksw/handcal//NONSGML v1.0//EN
BEGIN:VEVENT
UID:3997a2aaf1acf98aaf63c2f754bf0f17
DTSTAMP:20260423T094539Z

DTSTART:20210115T190000
DTEND:20210115T203000
SUMMARY:Eminescu Oglinzi, cu Maia Morgenstern si Marius Bodoghi
DESCRIPTION:Vă așteptăm vineri 15 ianuarie, începând cu orele 19:oo, în Foaierul teatrului Tony Bulandra, să reluăm Stagiunea 2020 – 2021 și să celebrăm împreună printr-un recital aparte, în care vocile și prezențele marilor actori Maia Morgenstern si Marius Bodoghi  vor exprima prin versurile lui Mihai Eminescu esența spirituală a poporului român, aflat între acceptare și luptă, între pesimism și haz de necaz, între ușurătate și profunzime, dar mereu întru credință și dragoste - Eminescu Oglinzi \n cu participarea muzicienilor:\nIrina Mareș – pian | Andreea Hrior – vioară | Ciprian Râvnic - vioară | Sorin Baroți – pian | Theodora Stroe – vioară | Theodor Arnăutu - vioară | Eduard Olteanu – pian \n#EminescuOglinzi\n\n‼Masca de protecție este obligatorie‼\n*N.B:\n\n Capacitate maximă admisă: 60 de persoane (pe scaune, dispuse la minimum 1.5 m distanță unul față de celălalt) \n Accesul publicului se va face începând cu ora 18.3o, la un interval de 5 minute până la începerea spectacolului, în ordinea survenită unei rezervări prealabile făcute prin telefon, WhatsApp, sau pe adresa de e-mail: rezervări@tonybulandra.ro (confirmată ulterior), în grupuri de maximum 10 persoane conduse la locația reprezentației de către un responsabil al teatrului Intrarea și ieșirea publicului, se va face exclusiv pe căi diferite de acces/ieșire, atât în instituție, cât și în sala de spectacole!!! \n______________________________________________________\nPoți obține informatii de la Agenția de bilete a Teatrului Tony Bulandra exclusiv prin:\n☎ Telefonul agenției de bilete a teatrului: 0245.210.046;\n✆ WhatsApp: 0799.759.012;

X-ALT-DESC;FMTTYPE=text/html:<!DOCTYPE HTML PUBLIC "-//W3C//DTD HTML 3.2//EN">\n<HTML>\n<HEAD>\n<META NAME="Generator" CONTENT="MS Exchange Server version 08.00.0681.000">\n<TITLE></TITLE>\n</HEAD>\n<BODY>\n<!-- Converted from text/rtf format -->\n\nVă așteptăm vineri 15 ianuarie, începând cu orele 19:oo, în Foaierul teatrului Tony Bulandra, să reluăm Stagiunea 2020 – 2021 și să celebrăm împreună printr-un recital aparte, în care vocile și prezențele marilor actori Maia Morgenstern si Marius Bodoghi  vor exprima prin versurile lui Mihai Eminescu esența spirituală a poporului român, aflat între acceptare și luptă, între pesimism și haz de necaz, între ușurătate și profunzime, dar mereu întru credință și dragoste - Eminescu Oglinzi <br /> cu participarea muzicienilor:<br />Irina Mareș – pian | Andreea Hrior – vioară | Ciprian Râvnic - vioară | Sorin Baroți – pian | Theodora Stroe – vioară | Theodor Arnăutu - vioară | Eduard Olteanu – pian <br />#EminescuOglinzi<br /><br />‼Masca de protecție este obligatorie‼<br />*N.B:<br /><br /> Capacitate maximă admisă: 60 de persoane (pe scaune, dispuse la minimum 1.5 m distanță unul față de celălalt) <br /> Accesul publicului se va face începând cu ora 18.3o, la un interval de 5 minute până la începerea spectacolului, în ordinea survenită unei rezervări prealabile făcute prin telefon, WhatsApp, sau pe adresa de e-mail: rezervări@tonybulandra.ro (confirmată ulterior), în grupuri de maximum 10 persoane conduse la locația reprezentației de către un responsabil al teatrului Intrarea și ieșirea publicului, se va face exclusiv pe căi diferite de acces/ieșire, atât în instituție, cât și în sala de spectacole!!! <br />______________________________________________________<br />Poți obține informatii de la Agenția de bilete a Teatrului Tony Bulandra exclusiv prin:<br />☎ Telefonul agenției de bilete a teatrului: 0245.210.046;<br />✆ WhatsApp: 0799.759.012;\n\n</BODY>\n</HTML>

LOCATION:Strada Gării, Târgoviște, Dâmbovița, România
END:VEVENT

END:VCALENDAR
