BEGIN:VCALENDAR
VERSION:2.0
PRODID:-//hacksw/handcal//NONSGML v1.0//EN
BEGIN:VEVENT
UID:b9dbc02d1a8049306ff503bb31665cf3
DTSTAMP:20260426T000308Z

DTSTART:20191110T000000
DTEND:20191110T235959
SUMMARY:Festivalul Național “The Secrets of Dance” ed. a III-a
DESCRIPTION:Festivalul Național “The Secrets of Dance” Ediția a III-a

X-ALT-DESC;FMTTYPE=text/html:<!DOCTYPE HTML PUBLIC "-//W3C//DTD HTML 3.2//EN">\n<HTML>\n<HEAD>\n<META NAME="Generator" CONTENT="MS Exchange Server version 08.00.0681.000">\n<TITLE></TITLE>\n</HEAD>\n<BODY>\n<!-- Converted from text/rtf format -->\n\nFestivalul Național “The Secrets of Dance” Ediția a III-a\n\n</BODY>\n</HTML>

LOCATION:Bulevardul Regele Carol I nr. 43, Târgoviște, România
END:VEVENT

END:VCALENDAR
