BEGIN:VCALENDAR
VERSION:2.0
PRODID:-//hacksw/handcal//NONSGML v1.0//EN
BEGIN:VEVENT
UID:45c4002e0387776a1643a5971b0ecdd5
DTSTAMP:20260425T234920Z

DTSTART:20240927T190000
DTEND:20240927T210000
SUMMARY:HAMLET Liber
DESCRIPTION:Teatrul „Tony Bulandra” din Târgoviște va deschide stagiunea 2024-2025 cu un proiect îndrăzneț, intitulat „Hamlet Liber”, cofinanțat de Institutul Cultural Român (ICR), prin Programul Cantemir – program de finanțare pentru proiecte culturale destinate mediului internațional. În acest sens, „Hamlet Liber” este o coproducție România – Coreea de Sud – Republica Moldova. Va avea avanpremiera la Târgoviște, iar premiera la Teatrul Fără Nume din Chișinău. \n\nLa conferinta de presa ce a prezentat spectacolul printre alte informatii au participat, de asemenea, la conferință cei trei tineri actori coreeni, care vor interpreta rolurile Hamlet – Hyeongdong Lee, Horatio – Sasa Jeong și Laertes – Hyeonggun Kim, sprijiniți de colega lor, Marie Shim, actriță ce a jucat în prima coproducție româno-coreeană, realizată în 2023, Argonautas. Pe lângă construirea unui rol de compoziție și atmosferă, Marie va fi, de această dată, asistentă de regie și va contribui semnificativ la traducerea și adaptarea textului de spectacol din limba coreeană în limba engleză, din care, mai apoi, va fi tradus și în limba română, prin colaborarea dintre regizorul și scenograful spectacolului, Mihai Constantin Ranin, și Elena Belciu, traducător și coordonator de proiect. Regizorul a devoalat o parte din viziunea sa asupra textului și a spațiului de joc, pe care și-l dorește labirintic, dar și intimist, spectacolul urmând să se joace într-un spațiu acvatic, imersiv. Principalele coordonate ale concepției regizorale sunt „acțiune și emoție” în construirea „unei societăți tehnologizate, dar care vrea să-și păstreze tradiția”. Costumele vor urmări o linie simplă, cea a esteticii asiatice, se vor folosi holograme, dar nu va lipsi nici realismul din momentele de lupte scenice pregătite de Claudiu Trandafir, actor și maestru Aikido. Universul sonor va fi realizat de compozitorul Cătălin Crețu, profesor universitar la Universitatea Națională de Muzică București.

X-ALT-DESC;FMTTYPE=text/html:<!DOCTYPE HTML PUBLIC "-//W3C//DTD HTML 3.2//EN">\n<HTML>\n<HEAD>\n<META NAME="Generator" CONTENT="MS Exchange Server version 08.00.0681.000">\n<TITLE></TITLE>\n</HEAD>\n<BODY>\n<!-- Converted from text/rtf format -->\n\nTeatrul „Tony Bulandra” din Târgoviște va deschide stagiunea 2024-2025 cu un proiect îndrăzneț, intitulat „Hamlet Liber”, cofinanțat de Institutul Cultural Român (ICR), prin Programul Cantemir – program de finanțare pentru proiecte culturale destinate mediului internațional. În acest sens, „Hamlet Liber” este o coproducție România – Coreea de Sud – Republica Moldova. Va avea avanpremiera la Târgoviște, iar premiera la Teatrul Fără Nume din Chișinău. <br /><br />La conferinta de presa ce a prezentat spectacolul printre alte informatii au participat, de asemenea, la conferință cei trei tineri actori coreeni, care vor interpreta rolurile Hamlet – Hyeongdong Lee, Horatio – Sasa Jeong și Laertes – Hyeonggun Kim, sprijiniți de colega lor, Marie Shim, actriță ce a jucat în prima coproducție româno-coreeană, realizată în 2023, Argonautas. Pe lângă construirea unui rol de compoziție și atmosferă, Marie va fi, de această dată, asistentă de regie și va contribui semnificativ la traducerea și adaptarea textului de spectacol din limba coreeană în limba engleză, din care, mai apoi, va fi tradus și în limba română, prin colaborarea dintre regizorul și scenograful spectacolului, Mihai Constantin Ranin, și Elena Belciu, traducător și coordonator de proiect. Regizorul a devoalat o parte din viziunea sa asupra textului și a spațiului de joc, pe care și-l dorește labirintic, dar și intimist, spectacolul urmând să se joace într-un spațiu acvatic, imersiv. Principalele coordonate ale concepției regizorale sunt „acțiune și emoție” în construirea „unei societăți tehnologizate, dar care vrea să-și păstreze tradiția”. Costumele vor urmări o linie simplă, cea a esteticii asiatice, se vor folosi holograme, dar nu va lipsi nici realismul din momentele de lupte scenice pregătite de Claudiu Trandafir, actor și maestru Aikido. Universul sonor va fi realizat de compozitorul Cătălin Crețu, profesor universitar la Universitatea Națională de Muzică București.\n\n</BODY>\n</HTML>

LOCATION:Teatrul Toni Bulandra, Aleea Trandafirilor, Cartier CFR, Târgoviște, Dâmbovița, 130051, România
END:VEVENT

END:VCALENDAR
