BEGIN:VCALENDAR
VERSION:2.0
PRODID:-//hacksw/handcal//NONSGML v1.0//EN
BEGIN:VEVENT
UID:296dc00eda661dd290ec14b5f82d8130
DTSTAMP:20260426T000759Z

DTSTART:20230317T190000
DTEND:20230317T210000
SUMMARY:Împărăteasa Chinei
DESCRIPTION:Împărăteasa Chinei este un spectacol în care povestea se află, de fapt, înlăuntrul poveștii.\n\nÎntr-un muzeu se întâmplă ca ”exponatele” să prindă viață, interpretând, ca-ntr-o oglindă, o frântură din istoria sângeroasă și coruptă a Chinei. Cu nimic mai puțin sângeroasă și mai puțin coruptă, însă, decât a altor țări din aceeași epocă (sfârșit de secol 19 și început de secol 20) sau din aceasta pe care o trăim. Textul piesei acoperă doar doi ani (1888–1900) din domnia zbuciumată a împărătesei Tzu-his, dar sunt anii marilor tentații, ai marilor schimbări provocate de ideile emancipate venite dinspre Europa. Se întrevede ispita progresului prin comerț și prin modernizarea unei țări imense, încă tributară vechilor tradiții.\n\nÎmpărăteasa Chinei este un spectacol dens despre putere, corupție, trădare, crimă, dar și despre feminitate, iubire și despre patriotismul greu de înțeles în secolul al XXI-lea.\n\nEste un spectacol despre o femeie excepțională, inteligentă, puternică și seducătoare, care înțelege cu greu că se află la granița  unor mari prefaceri pe care nu le mai poate stăvili.\n\nCine va izbuti să pătrundă în povestea din spatele poveștii va înțelege că nimic din ce trăim azi nu e nou sub soare.

X-ALT-DESC;FMTTYPE=text/html:<!DOCTYPE HTML PUBLIC "-//W3C//DTD HTML 3.2//EN">\n<HTML>\n<HEAD>\n<META NAME="Generator" CONTENT="MS Exchange Server version 08.00.0681.000">\n<TITLE></TITLE>\n</HEAD>\n<BODY>\n<!-- Converted from text/rtf format -->\n\nÎmpărăteasa Chinei este un spectacol în care povestea se află, de fapt, înlăuntrul poveștii.<br /><br />Într-un muzeu se întâmplă ca ”exponatele” să prindă viață, interpretând, ca-ntr-o oglindă, o frântură din istoria sângeroasă și coruptă a Chinei. Cu nimic mai puțin sângeroasă și mai puțin coruptă, însă, decât a altor țări din aceeași epocă (sfârșit de secol 19 și început de secol 20) sau din aceasta pe care o trăim. Textul piesei acoperă doar doi ani (1888–1900) din domnia zbuciumată a împărătesei Tzu-his, dar sunt anii marilor tentații, ai marilor schimbări provocate de ideile emancipate venite dinspre Europa. Se întrevede ispita progresului prin comerț și prin modernizarea unei țări imense, încă tributară vechilor tradiții.<br /><br />Împărăteasa Chinei este un spectacol dens despre putere, corupție, trădare, crimă, dar și despre feminitate, iubire și despre patriotismul greu de înțeles în secolul al XXI-lea.<br /><br />Este un spectacol despre o femeie excepțională, inteligentă, puternică și seducătoare, care înțelege cu greu că se află la granița  unor mari prefaceri pe care nu le mai poate stăvili.<br /><br />Cine va izbuti să pătrundă în povestea din spatele poveștii va înțelege că nimic din ce trăim azi nu e nou sub soare.\n\n</BODY>\n</HTML>

LOCATION:
END:VEVENT

END:VCALENDAR
