BEGIN:VCALENDAR
VERSION:2.0
PRODID:-//hacksw/handcal//NONSGML v1.0//EN
BEGIN:VEVENT
UID:67eb57fdb8dbf59c72d6e6e3a7c9053f
DTSTAMP:20260426T000252Z

DTSTART:20200905T000000
DTEND:20200905T120000
SUMMARY:Zilele Cetății - DAY 1
DESCRIPTION:ÂMBĂTĂ – 05 septembrie 2020\n\n11:00 – Deschidere Salonul Editorial „Ion Heliade Rădulescu” organizat de Biblioteca Județeană – Locație: Scuarul Primăriei\n\n11:00 – Deschidere Stand Expozițional de promovare a obiectivelor turistice din Municipiul Târgoviște / Județul Dâmbovița – organizat de B.P.P.C.D.T în parteneriat cu Complexul Muzeal „Curtea Domnească”. Locație: Scuarul Primăriei\n\n12:00 – Simpozionul Național „Școala de la Târgoviște”, ediția a VII-a – realizat de Societatea Scriitorilor Târgovișteni – Locație: Scuarul Primăriei\n\n18:00 – Spectacol de muzică și balet „O sole mio” – Teatrul Național de Operă și Balet „Oleg Danovski” Constanța – Locație: Teatrul de vară (Parcul Chindia)

X-ALT-DESC;FMTTYPE=text/html:<!DOCTYPE HTML PUBLIC "-//W3C//DTD HTML 3.2//EN">\n<HTML>\n<HEAD>\n<META NAME="Generator" CONTENT="MS Exchange Server version 08.00.0681.000">\n<TITLE></TITLE>\n</HEAD>\n<BODY>\n<!-- Converted from text/rtf format -->\n\nÂMBĂTĂ – 05 septembrie 2020<br /><br />11:00 – Deschidere Salonul Editorial „Ion Heliade Rădulescu” organizat de Biblioteca Județeană – Locație: Scuarul Primăriei<br /><br />11:00 – Deschidere Stand Expozițional de promovare a obiectivelor turistice din Municipiul Târgoviște / Județul Dâmbovița – organizat de B.P.P.C.D.T în parteneriat cu Complexul Muzeal „Curtea Domnească”. Locație: Scuarul Primăriei<br /><br />12:00 – Simpozionul Național „Școala de la Târgoviște”, ediția a VII-a – realizat de Societatea Scriitorilor Târgovișteni – Locație: Scuarul Primăriei<br /><br />18:00 – Spectacol de muzică și balet „O sole mio” – Teatrul Național de Operă și Balet „Oleg Danovski” Constanța – Locație: Teatrul de vară (Parcul Chindia)\n\n</BODY>\n</HTML>

LOCATION:Târgoviște, Dâmbovița, România
END:VEVENT

END:VCALENDAR
